BEGIN:VCALENDAR
VERSION:2.0
PRODID:-//The Textile Institute - ECPv6.15.17.1//NONSGML v1.0//EN
CALSCALE:GREGORIAN
METHOD:PUBLISH
X-ORIGINAL-URL:https://www.textileinstitute.org
X-WR-CALDESC:Events for The Textile Institute
REFRESH-INTERVAL;VALUE=DURATION:PT1H
X-Robots-Tag:noindex
X-PUBLISHED-TTL:PT1H
BEGIN:VTIMEZONE
TZID:Europe/London
BEGIN:DAYLIGHT
TZOFFSETFROM:+0000
TZOFFSETTO:+0100
TZNAME:BST
DTSTART:20200329T010000
END:DAYLIGHT
BEGIN:STANDARD
TZOFFSETFROM:+0100
TZOFFSETTO:+0000
TZNAME:GMT
DTSTART:20201025T010000
END:STANDARD
BEGIN:DAYLIGHT
TZOFFSETFROM:+0000
TZOFFSETTO:+0100
TZNAME:BST
DTSTART:20210328T010000
END:DAYLIGHT
BEGIN:STANDARD
TZOFFSETFROM:+0100
TZOFFSETTO:+0000
TZNAME:GMT
DTSTART:20211031T010000
END:STANDARD
BEGIN:DAYLIGHT
TZOFFSETFROM:+0000
TZOFFSETTO:+0100
TZNAME:BST
DTSTART:20220327T010000
END:DAYLIGHT
BEGIN:STANDARD
TZOFFSETFROM:+0100
TZOFFSETTO:+0000
TZNAME:GMT
DTSTART:20221030T010000
END:STANDARD
END:VTIMEZONE
BEGIN:VEVENT
DTSTART;TZID=Europe/London:20210628T120000
DTEND;TZID=Europe/London:20210629T143000
DTSTAMP:20260424T125354
CREATED:20210309T170852Z
LAST-MODIFIED:20210525T145334Z
UID:10002420-1624881600-1624977000@www.textileinstitute.org
SUMMARY:Manchester Metropolitan University: Digital Fashion Innovation E-Symposium
DESCRIPTION:Format of the event: Online \nDate: Monday 28 – Tuesday 29 June 2021 \nTime: 12:00 – 14:30 hours GMT \nYou are cordially invited to participate in the DFI 2021 E-Symposium\, this event is supported by The Textile Institute and organised by Corporate Member Manchester Metropolitan University.This is an international virtual forum for the dissemination of research\, innovation\, creative practice and pedagogy surrounding digitalised fashion world and for the generation of new ideas and collaborations. \nPlease click here for more information and registration. 
URL:https://www.textileinstitute.org/event/manchester-metropolitan-university-digital-fashion-innovation-e-symposium/
CATEGORIES:Partner Events
ATTACH;FMTTYPE=image/jpeg:https://www.textileinstitute.org/wp-content/uploads/2021/03/dfgdafgdfga.jpg
END:VEVENT
END:VCALENDAR