BEGIN:VCALENDAR
VERSION:2.0
PRODID:-//The Textile Institute - ECPv6.15.17.1//NONSGML v1.0//EN
CALSCALE:GREGORIAN
METHOD:PUBLISH
X-WR-CALNAME:The Textile Institute
X-ORIGINAL-URL:https://www.textileinstitute.org
X-WR-CALDESC:Events for The Textile Institute
REFRESH-INTERVAL;VALUE=DURATION:PT1H
X-Robots-Tag:noindex
X-PUBLISHED-TTL:PT1H
BEGIN:VTIMEZONE
TZID:Europe/London
BEGIN:DAYLIGHT
TZOFFSETFROM:+0000
TZOFFSETTO:+0100
TZNAME:BST
DTSTART:20200329T010000
END:DAYLIGHT
BEGIN:STANDARD
TZOFFSETFROM:+0100
TZOFFSETTO:+0000
TZNAME:GMT
DTSTART:20201025T010000
END:STANDARD
BEGIN:DAYLIGHT
TZOFFSETFROM:+0000
TZOFFSETTO:+0100
TZNAME:BST
DTSTART:20210328T010000
END:DAYLIGHT
BEGIN:STANDARD
TZOFFSETFROM:+0100
TZOFFSETTO:+0000
TZNAME:GMT
DTSTART:20211031T010000
END:STANDARD
BEGIN:DAYLIGHT
TZOFFSETFROM:+0000
TZOFFSETTO:+0100
TZNAME:BST
DTSTART:20220327T010000
END:DAYLIGHT
BEGIN:STANDARD
TZOFFSETFROM:+0100
TZOFFSETTO:+0000
TZNAME:GMT
DTSTART:20221030T010000
END:STANDARD
END:VTIMEZONE
BEGIN:VEVENT
DTSTART;VALUE=DATE:20210930
DTEND;VALUE=DATE:20211008
DTSTAMP:20260424T062623
CREATED:20210429T083551Z
LAST-MODIFIED:20210629T134357Z
UID:10002463-1632960000-1633651199@www.textileinstitute.org
SUMMARY:WCTC special edition: Conference on Sustainable Finishing of Textiles
DESCRIPTION:Format of the event: online & on-demand \nDate: 30 September-1 October & 7-8 October 2021 \nTime: 12:00 hrs BST \nFeedback from International Newsletters Ltd recent World Congress on Textile Coating (WCTC) (February 2021) highlighted the commitment of the industry to reduce its carbon footprint and ensure a sustainable future. It is clear that\, as it emerges from the consequences of the covid-19 pandemic\, the industry is committed to action and investment in material technology and machinery to abate its detrimental impacts on the environment.\n\n  \nTo aid this process International Newsletters Ltd has therefore decided to run a special edition of WCTC to consider all aspects of Sustainable Finishing of Textiles.\n\n  \nThe aim of the event is to explore the materials\, processes and machinery that can help dyers\, finishers\, coaters and laminators achieve this goal\, rapidly\, economically and practically. The programme will consist of invited presentations from key companies contributing to this effort.\n\n  \nThe conference will run over four afternoons (BST) and will be available to attendees on-demand the following day. The event will offer Q&A with the speakers in the dedicated discussion forums\, and group and 1:1 networking in the Networking Lounge during the breaks and after each session for all attendees.\n\n  \nPlease click here to register and for more information.
URL:https://www.textileinstitute.org/event/wctc-special-edition-conference-on-sustainable-finishing-of-textiles/
CATEGORIES:Partner Events
ATTACH;FMTTYPE=image/jpeg:https://www.textileinstitute.org/wp-content/uploads/2021/04/dsdsds.jpg
END:VEVENT
BEGIN:VEVENT
DTSTART;VALUE=DATE:20211014
DTEND;VALUE=DATE:20211017
DTSTAMP:20260424T062623
CREATED:20200518T100332Z
LAST-MODIFIED:20210629T134459Z
UID:10001896-1634169600-1634428799@www.textileinstitute.org
SUMMARY:Intertex Tunisia
DESCRIPTION:Venue: Foire Internationale De Sousse\, Sousse\, Tunisia \nDate: Thursday 14 – Saturday 16 October 2021 \nTime: TBC \nThe 3rd Intertex Tunisia Fair will unite textile industry leaders. Intrtex Tunisia is officially supported by FTTH Fédération Tunisienne du Textile et de l’Habillement (Tunisia Textile and Clothing Federation). \nIntertex Tunisia is co-located with Interhome Tunisia which is for home textile industry\, Intertex Machinery Tunisia which is for textile machinery industry and Interleather Tunisia which is for leather&shoes industry. \nClick here for more information and registration.
URL:https://www.textileinstitute.org/event/postponed-intertex-tunisia/
LOCATION:Tunisia\, Africa\, Tunisia
CATEGORIES:Partner Events
ATTACH;FMTTYPE=image/jpeg:https://www.textileinstitute.org/wp-content/uploads/2020/05/asddd.jpg
END:VEVENT
END:VCALENDAR