BEGIN:VCALENDAR
VERSION:2.0
PRODID:-//The Textile Institute - ECPv6.15.17.1//NONSGML v1.0//EN
CALSCALE:GREGORIAN
METHOD:PUBLISH
X-WR-CALNAME:The Textile Institute
X-ORIGINAL-URL:https://www.textileinstitute.org
X-WR-CALDESC:Events for The Textile Institute
REFRESH-INTERVAL;VALUE=DURATION:PT1H
X-Robots-Tag:noindex
X-PUBLISHED-TTL:PT1H
BEGIN:VTIMEZONE
TZID:Europe/London
BEGIN:DAYLIGHT
TZOFFSETFROM:+0000
TZOFFSETTO:+0100
TZNAME:BST
DTSTART:20200329T010000
END:DAYLIGHT
BEGIN:STANDARD
TZOFFSETFROM:+0100
TZOFFSETTO:+0000
TZNAME:GMT
DTSTART:20201025T010000
END:STANDARD
BEGIN:DAYLIGHT
TZOFFSETFROM:+0000
TZOFFSETTO:+0100
TZNAME:BST
DTSTART:20210328T010000
END:DAYLIGHT
BEGIN:STANDARD
TZOFFSETFROM:+0100
TZOFFSETTO:+0000
TZNAME:GMT
DTSTART:20211031T010000
END:STANDARD
BEGIN:DAYLIGHT
TZOFFSETFROM:+0000
TZOFFSETTO:+0100
TZNAME:BST
DTSTART:20220327T010000
END:DAYLIGHT
BEGIN:STANDARD
TZOFFSETFROM:+0100
TZOFFSETTO:+0000
TZNAME:GMT
DTSTART:20221030T010000
END:STANDARD
END:VTIMEZONE
BEGIN:VEVENT
DTSTART;VALUE=DATE:20211103
DTEND;VALUE=DATE:20211105
DTSTAMP:20260424T045929
CREATED:20210805T094634Z
LAST-MODIFIED:20210805T094634Z
UID:10002692-1635897600-1636070399@www.textileinstitute.org
SUMMARY:E-Textiles 2021
DESCRIPTION:Format of the event: Online \nDate: Wednesday 3 – Thursday 4 November 2021 \nTime: TBC \nE-Textiles 2021: International Conference on the Challenges\, Opportunities\, Innovations and Applications in Electronic Textiles will give people from academia and industry the opportunity to discuss the exciting innovations and challenges in the rapidly emerging field of e-textiles. Topics included\, but are not limited to: \n\nElectronic Textiles\nTextile Power Supplies\nTextile Sensors and Actuators\nManufacturing and Materials\nApplications\n\nThere will also be the opportunity to meet with exhibitors to discuss the latest developments in E-Textiles. If you are interested in exhibiting at E-Textiles 2021\, stands are available for £400 (plus one free standard entry). Please complete an exhibition application form. \nRegistration now open! Please visit the registration page for more details. \nCall for Papers: Please visit Authors/Abstracts for more details.
URL:https://www.textileinstitute.org/event/e-textiles-2021/
CATEGORIES:Partner Events
ATTACH;FMTTYPE=image/jpeg:https://www.textileinstitute.org/wp-content/uploads/2021/06/asddda.jpg
END:VEVENT
END:VCALENDAR