BEGIN:VCALENDAR
VERSION:2.0
PRODID:-//The Textile Institute - ECPv6.15.17.1//NONSGML v1.0//EN
CALSCALE:GREGORIAN
METHOD:PUBLISH
X-WR-CALNAME:The Textile Institute
X-ORIGINAL-URL:https://www.textileinstitute.org
X-WR-CALDESC:Events for The Textile Institute
REFRESH-INTERVAL;VALUE=DURATION:PT1H
X-Robots-Tag:noindex
X-PUBLISHED-TTL:PT1H
BEGIN:VTIMEZONE
TZID:Europe/London
BEGIN:DAYLIGHT
TZOFFSETFROM:+0000
TZOFFSETTO:+0100
TZNAME:BST
DTSTART:20200329T010000
END:DAYLIGHT
BEGIN:STANDARD
TZOFFSETFROM:+0100
TZOFFSETTO:+0000
TZNAME:GMT
DTSTART:20201025T010000
END:STANDARD
BEGIN:DAYLIGHT
TZOFFSETFROM:+0000
TZOFFSETTO:+0100
TZNAME:BST
DTSTART:20210328T010000
END:DAYLIGHT
BEGIN:STANDARD
TZOFFSETFROM:+0100
TZOFFSETTO:+0000
TZNAME:GMT
DTSTART:20211031T010000
END:STANDARD
BEGIN:DAYLIGHT
TZOFFSETFROM:+0000
TZOFFSETTO:+0100
TZNAME:BST
DTSTART:20220327T010000
END:DAYLIGHT
BEGIN:STANDARD
TZOFFSETFROM:+0100
TZOFFSETTO:+0000
TZNAME:GMT
DTSTART:20221030T010000
END:STANDARD
END:VTIMEZONE
BEGIN:VEVENT
DTSTART;TZID=Europe/London:20211213T093000
DTEND;TZID=Europe/London:20211213T113000
DTSTAMP:20260424T033524
CREATED:20211206T143913Z
LAST-MODIFIED:20211206T144109Z
UID:10002762-1639387800-1639395000@www.textileinstitute.org
SUMMARY:E-Textiles Network Webinar –  Design and Manufacturing Thermoelectric Textiles for Power Generation and Solid-state Cooling
DESCRIPTION:Format of the event: Zoom Webinar \nDate: Monday 13 December 2021
URL:https://www.textileinstitute.org/event/e-textiles-network-webinar-design-and-manufacturing-thermoelectric-textiles-for-power-generation-and-solid-state-cooling/
CATEGORIES:Partner Events
ATTACH;FMTTYPE=image/jpeg:https://www.textileinstitute.org/wp-content/uploads/2021/06/asddda.jpg
END:VEVENT
END:VCALENDAR