BEGIN:VCALENDAR
VERSION:2.0
PRODID:-//The Textile Institute - ECPv6.15.17.1//NONSGML v1.0//EN
CALSCALE:GREGORIAN
METHOD:PUBLISH
X-WR-CALNAME:The Textile Institute
X-ORIGINAL-URL:https://www.textileinstitute.org
X-WR-CALDESC:Events for The Textile Institute
REFRESH-INTERVAL;VALUE=DURATION:PT1H
X-Robots-Tag:noindex
X-PUBLISHED-TTL:PT1H
BEGIN:VTIMEZONE
TZID:Europe/London
BEGIN:DAYLIGHT
TZOFFSETFROM:+0000
TZOFFSETTO:+0100
TZNAME:BST
DTSTART:20210328T010000
END:DAYLIGHT
BEGIN:STANDARD
TZOFFSETFROM:+0100
TZOFFSETTO:+0000
TZNAME:GMT
DTSTART:20211031T010000
END:STANDARD
BEGIN:DAYLIGHT
TZOFFSETFROM:+0000
TZOFFSETTO:+0100
TZNAME:BST
DTSTART:20220327T010000
END:DAYLIGHT
BEGIN:STANDARD
TZOFFSETFROM:+0100
TZOFFSETTO:+0000
TZNAME:GMT
DTSTART:20221030T010000
END:STANDARD
BEGIN:DAYLIGHT
TZOFFSETFROM:+0000
TZOFFSETTO:+0100
TZNAME:BST
DTSTART:20230326T010000
END:DAYLIGHT
BEGIN:STANDARD
TZOFFSETFROM:+0100
TZOFFSETTO:+0000
TZNAME:GMT
DTSTART:20231029T010000
END:STANDARD
END:VTIMEZONE
BEGIN:VEVENT
DTSTART;VALUE=DATE:20221004
DTEND;VALUE=DATE:20221007
DTSTAMP:20260423T131323
CREATED:20220117T130250Z
LAST-MODIFIED:20220128T160857Z
UID:10002783-1664841600-1665100799@www.textileinstitute.org
SUMMARY:AATCC The Textile Discovery Summit 2022
DESCRIPTION:Date: 4 – 6 October 2022 \nVenue: Hilton University Place in Charlotte\, NC\, USA \nAATCC is soliciting posters for its 2022 Textile Discovery Summit. The event will be held October 4-6\, 2022\, at the Hilton University Place in Charlotte\, NC\, USA.\n\n\nAs well as posters and educational presentations\, this event also includes networking receptions\, tabletop exhibits\, and more. Posters are being solicited for the following topics:\n\n\n\nFiber\, fabric and materials innovations\nColoration (dyeing and printing) chemistry\, application\, process and machinery\nLighting trends and colour management\nInnovations in smart textiles\, protective and performance fabrics\nTesting for product performance and product claim validation\nAddressing sustainability\, environmental challenges throughout the supply chain\nAchieving comfort and wellness through innovative technologies\n\n\n\nAuthors can download the poster abstract submission form and details here. Abstracts for posters are due 2 May\, 2022.\n\n\n\nPlease click here for more information and registration.
URL:https://www.textileinstitute.org/event/aatcc-the-textile-discovery-summit-2022/
CATEGORIES:Partner Events
END:VEVENT
BEGIN:VEVENT
DTSTART;VALUE=DATE:20221006
DTEND;VALUE=DATE:20221009
DTSTAMP:20260423T131323
CREATED:20220721T143138Z
LAST-MODIFIED:20220721T143223Z
UID:10003083-1665014400-1665273599@www.textileinstitute.org
SUMMARY:Intertex Tunisia 2022 - 4th International Exhibition of Textile Industry
DESCRIPTION:Venue: Foire International de Sousse\, Tunisia \nDate: Thursday 6 – Saturday 8 October 2022 \nIntertex Tunisia Fair\, which has provided great sales growth and export value to all its participants since its first edition will unite textile industry leaders under one roof between 6 – 8 October 2022 in Sousse for the 4th time. \nIntertex Tunisia Exhibition attracts thousands of professionals of Textile buyers mainly from African countries and also Europe and Middle East. \nIn the previous edition which took place between 14-16 October 2021\, Intertex Tunisia welcomed 182 exhibitors/brands and 8240 professional visitors from 18 countries. The event brought professionals together from all sub-sectors of the textile such as raw materials\, fabrics\, yarns\, accessories\, dyes\, and chemicals. \nIntertex Tunisia also hosted a special section for denim manufacturers. “Blue Zone” hosted local and international denim and denim accessories manufacturers to introduce the latest trends in the denim industry. \nIntertex Tunisia is co- located with Intertex Machinery Fair.
URL:https://www.textileinstitute.org/event/intertex-tunisia-2022-4th-international-exhibition-of-textile-industry/
CATEGORIES:Partner Events
ATTACH;FMTTYPE=image/jpeg:https://www.textileinstitute.org/wp-content/uploads/2022/07/Screenshot-2022-07-21-145258.jpg
END:VEVENT
END:VCALENDAR