BEGIN:VCALENDAR
VERSION:2.0
PRODID:-//The Textile Institute - ECPv6.15.17.1//NONSGML v1.0//EN
CALSCALE:GREGORIAN
METHOD:PUBLISH
X-ORIGINAL-URL:https://www.textileinstitute.org
X-WR-CALDESC:Events for The Textile Institute
REFRESH-INTERVAL;VALUE=DURATION:PT1H
X-Robots-Tag:noindex
X-PUBLISHED-TTL:PT1H
BEGIN:VTIMEZONE
TZID:Europe/London
BEGIN:DAYLIGHT
TZOFFSETFROM:+0000
TZOFFSETTO:+0100
TZNAME:BST
DTSTART:20220327T010000
END:DAYLIGHT
BEGIN:STANDARD
TZOFFSETFROM:+0100
TZOFFSETTO:+0000
TZNAME:GMT
DTSTART:20221030T010000
END:STANDARD
BEGIN:DAYLIGHT
TZOFFSETFROM:+0000
TZOFFSETTO:+0100
TZNAME:BST
DTSTART:20230326T010000
END:DAYLIGHT
BEGIN:STANDARD
TZOFFSETFROM:+0100
TZOFFSETTO:+0000
TZNAME:GMT
DTSTART:20231029T010000
END:STANDARD
BEGIN:DAYLIGHT
TZOFFSETFROM:+0000
TZOFFSETTO:+0100
TZNAME:BST
DTSTART:20240331T010000
END:DAYLIGHT
BEGIN:STANDARD
TZOFFSETFROM:+0100
TZOFFSETTO:+0000
TZNAME:GMT
DTSTART:20241027T010000
END:STANDARD
END:VTIMEZONE
BEGIN:VEVENT
DTSTART;VALUE=DATE:20230228
DTEND;VALUE=DATE:20230303
DTSTAMP:20260423T051456
CREATED:20221012T081635Z
LAST-MODIFIED:20221012T081635Z
UID:10002462-1677542400-1677801599@www.textileinstitute.org
SUMMARY:FUTURE TEXTILES CONFERENCE 2023
DESCRIPTION:Format of the conference: Enterprise Building on UWE Frenchay Campus\, Bristol and online \nDate: 28 February – 2 March 2023 \nTextiles are so ubiquitous\, yet their functions have not been changed much since the dawn of civilization. Additionally\, textiles have received widespread attention as a versatile platform in recent years for future wearable electronics applications. However\, they are still far from the requirements of modern-day electronics. \nThe global textile industry is also often cited as the second most polluting industry after oil\, responsible for ~8-10% of global CO2 emission\, ~20% water pollution and ~35% microplastic pollution. \nTherefore\, radically new approaches are needed at both materials and manufacturing level to transform textiles into highly innovative\, sustainable\, and intelligent clothing. \nThis conference will provide a forum for collaborative discussions to address such key challenges at both academic and industry level to develop future clothing for the next generation and facilitate the rapid transition of such textiles from lab to market. \nClick here for more information and registration.
URL:https://www.textileinstitute.org/event/future-textiles-conference-2023/
CATEGORIES:Partner Events
END:VEVENT
END:VCALENDAR