BEGIN:VCALENDAR
VERSION:2.0
PRODID:-//The Textile Institute - ECPv6.15.17.1//NONSGML v1.0//EN
CALSCALE:GREGORIAN
METHOD:PUBLISH
X-ORIGINAL-URL:https://www.textileinstitute.org
X-WR-CALDESC:Events for The Textile Institute
REFRESH-INTERVAL;VALUE=DURATION:PT1H
X-Robots-Tag:noindex
X-PUBLISHED-TTL:PT1H
BEGIN:VTIMEZONE
TZID:Europe/London
BEGIN:DAYLIGHT
TZOFFSETFROM:+0000
TZOFFSETTO:+0100
TZNAME:BST
DTSTART:20220327T010000
END:DAYLIGHT
BEGIN:STANDARD
TZOFFSETFROM:+0100
TZOFFSETTO:+0000
TZNAME:GMT
DTSTART:20221030T010000
END:STANDARD
BEGIN:DAYLIGHT
TZOFFSETFROM:+0000
TZOFFSETTO:+0100
TZNAME:BST
DTSTART:20230326T010000
END:DAYLIGHT
BEGIN:STANDARD
TZOFFSETFROM:+0100
TZOFFSETTO:+0000
TZNAME:GMT
DTSTART:20231029T010000
END:STANDARD
BEGIN:DAYLIGHT
TZOFFSETFROM:+0000
TZOFFSETTO:+0100
TZNAME:BST
DTSTART:20240331T010000
END:DAYLIGHT
BEGIN:STANDARD
TZOFFSETFROM:+0100
TZOFFSETTO:+0000
TZNAME:GMT
DTSTART:20241027T010000
END:STANDARD
END:VTIMEZONE
BEGIN:VEVENT
DTSTART;TZID=Europe/London:20231122T140000
DTEND;TZID=Europe/London:20231122T150000
DTSTAMP:20260422T172809
CREATED:20231027T141217Z
LAST-MODIFIED:20231027T141217Z
UID:10003309-1700661600-1700665200@www.textileinstitute.org
SUMMARY:ASBCI Webinar: ‘Connecting The Dots: Data\, Digital and Sustainable Solutions’
DESCRIPTION:Date: 22 November 2023 \nTime: 14:00-15:00 hrs GMT \nFormat of the event: Webinar \n‘Join us for a lively discussion with the visionaries at @Style3D and ecosystem partners as we reinvent fashion’s future.  We’ll thread together insights from across the industry to sketch out a blueprint for revolutionizing the design process. This is your chance to contribute to a movement that is transforming the landscape of ethical fashion.’ \nTo secure your virtual front row seat please Register here \nFor further information please Click here
URL:https://www.textileinstitute.org/event/asbci-webinar-connecting-the-dots-data-digital-and-sustainable-solutions/
CATEGORIES:Partner Events
ATTACH;FMTTYPE=image/png:https://www.textileinstitute.org/wp-content/uploads/2020/03/events-logo-asbci.png
END:VEVENT
BEGIN:VEVENT
DTSTART;TZID=Europe/London:20231129T130000
DTEND;TZID=Europe/London:20231129T160000
DTSTAMP:20260422T172809
CREATED:20231117T153334Z
LAST-MODIFIED:20231117T153334Z
UID:10003311-1701262800-1701273600@www.textileinstitute.org
SUMMARY:Nottingham Trent University: Town Hall Meeting Invitation - Collaborative Opportunity for the East Midlands Net Zero Textile Hub 
DESCRIPTION:Date: Wednesday 29 November 2023 \nTime: 13:00 -16:00 hrs GMT \nVenue: Room CTLP10 in the Teaching and Learning Building\, Clifton Campus\, Nottingham Trent University\, Nottingham\, UK \nSubject: Town Hall Meeting Invitation – Collaborative Opportunity for the East Midlands Net Zero Textile Hub  \nThe UKRI has announced a funding opportunity aimed at establishing Green Economy Centres across the UK. With a commitment of £25 million\, this initiative seeks to support up to five co-created centres that accelerate the translation and commercialisation of market-informed solutions to drive the green economy. The call is a component of the UKRI Building a Green Future strategic theme\, aimed at driving the nation towards a Net-zero future\, and part of a broader effort to address significant challenges in sustainability and economic growth through innovation and collaboration among research communities\, policymakers\, and industry stakeholders. \nPlease see link to funding call: https://www.ukri.org/opportunity/accelerating-the-green-economy-centres/ \nVision Statement for the East Midlands Net-Zero Textile Hub Proposal: \nIn response to this funding call\, Nottingham Trent University (NTU) is leading the development of a proposal for an East Midlands Net-Zero Textile Hub. The vision of the Net-Zero Textile Hub is to establish a centre of excellence that transforms the regional textile industry into a leading example of sustainability and innovation. The hub aims to drive the transition towards a green economy by developing and implementing cutting-edge\, environmentally friendly textile technologies and practices. Through research\, collaborative enterprise\, and policy advocacy\, the hub will tackle the critical challenges of resource efficiency\, waste reduction\, and sustainable material usage\, and acts as a beacon for industry best practices\, educational excellence\, and community engagement. \nThe vision for our proposal is threefold: \n\nInnovate: Develop innovative technologies\, processes and practices that significantly reduce the carbon footprint of textile production and champion circularity within the textile industry.\nEducate: Cultivate a new generation equipped with the knowledge and skills to drive and sustain the industry’s transformation.\nCollaborate: Build an expansive network across academia\, industry\, government\, and society\, ensuring that the hub’s work is both relevant and impactful.\n\nBy realising this vision\, the East Midlands Net-Zero Textile Hub will not only contribute to the UK’s net zero targets but also enhance the global competitiveness of the UK textile industry. \nThe Purpose of the Town Hall Meeting: The town hall meeting will serve as a platform for dialogue and partnership-building with stakeholders like you. We aim to: \n\nShare insights into the UKRI funding call and explore collaboration opportunities.\nDiscuss the strategic benefits and potential roles for partners within the hub.\nGain feedback and ideas to shape the hub’s research and policy agenda.\n\nYour Involvement: Your expertise and involvement are vital to the success of this initiative. We are seeking your ‘in principle’ support and invite you to engage with us through: \n\nParticipating in and contributing to workshops and stakeholder events.\nMaking presentations and sharing industry-specific insights.\nAdvising on research directions and providing access to technical data.\n\n RSVP: iona.baker@ntu.ac.uk  
URL:https://www.textileinstitute.org/event/nottingham-trent-university-town-hall-meeting-invitation-collaborative-opportunity-for-the-east-midlands-net-zero-textile-hub/
CATEGORIES:Partner Events
END:VEVENT
END:VCALENDAR