BEGIN:VCALENDAR
VERSION:2.0
PRODID:-//The Textile Institute - ECPv6.15.17.1//NONSGML v1.0//EN
CALSCALE:GREGORIAN
METHOD:PUBLISH
X-WR-CALNAME:The Textile Institute
X-ORIGINAL-URL:https://www.textileinstitute.org
X-WR-CALDESC:Events for The Textile Institute
REFRESH-INTERVAL;VALUE=DURATION:PT1H
X-Robots-Tag:noindex
X-PUBLISHED-TTL:PT1H
BEGIN:VTIMEZONE
TZID:Europe/London
BEGIN:DAYLIGHT
TZOFFSETFROM:+0000
TZOFFSETTO:+0100
TZNAME:BST
DTSTART:20230326T010000
END:DAYLIGHT
BEGIN:STANDARD
TZOFFSETFROM:+0100
TZOFFSETTO:+0000
TZNAME:GMT
DTSTART:20231029T010000
END:STANDARD
BEGIN:DAYLIGHT
TZOFFSETFROM:+0000
TZOFFSETTO:+0100
TZNAME:BST
DTSTART:20240331T010000
END:DAYLIGHT
BEGIN:STANDARD
TZOFFSETFROM:+0100
TZOFFSETTO:+0000
TZNAME:GMT
DTSTART:20241027T010000
END:STANDARD
BEGIN:DAYLIGHT
TZOFFSETFROM:+0000
TZOFFSETTO:+0100
TZNAME:BST
DTSTART:20250330T010000
END:DAYLIGHT
BEGIN:STANDARD
TZOFFSETFROM:+0100
TZOFFSETTO:+0000
TZNAME:GMT
DTSTART:20251026T010000
END:STANDARD
END:VTIMEZONE
BEGIN:VEVENT
DTSTART;TZID=Europe/London:20240116T093000
DTEND;TZID=Europe/London:20240116T163000
DTSTAMP:20260422T142314
CREATED:20231204T165959Z
LAST-MODIFIED:20231204T165959Z
UID:10003314-1705397400-1705422600@www.textileinstitute.org
SUMMARY:E-Textiles for Healthcare Workshop
DESCRIPTION:Date: 16 January 2024 \nTime: 09:30-16:30 hrs GMT \nVenue: University of Southampton\, UK \nThe E-Textiles Network workshop “E-Textiles for Healthcare” will be held on 16 January 2024 at the Hartley Suite\, University of Southampton. \nThe workshop will explore the role of wearable technology in Healthcare and then identify opportunities for E-Textile smart garment based wearables and the corresponding research challenges that need to be addressed. \nThe workshop will be run as a one-day event\, split into two halves with the morning session focusing on technology within Healthcare and the afternoon focusing on how this technology can be implemented in E-Textiles and the associated practical challenges. \nClick here for the full details and registration.
URL:https://www.textileinstitute.org/event/e-textiles-for-healthcare-workshop/
CATEGORIES:Partner Events
END:VEVENT
END:VCALENDAR