BEGIN:VCALENDAR
VERSION:2.0
PRODID:-//The Textile Institute - ECPv6.15.17.1//NONSGML v1.0//EN
CALSCALE:GREGORIAN
METHOD:PUBLISH
X-WR-CALNAME:The Textile Institute
X-ORIGINAL-URL:https://www.textileinstitute.org
X-WR-CALDESC:Events for The Textile Institute
REFRESH-INTERVAL;VALUE=DURATION:PT1H
X-Robots-Tag:noindex
X-PUBLISHED-TTL:PT1H
BEGIN:VTIMEZONE
TZID:Europe/London
BEGIN:DAYLIGHT
TZOFFSETFROM:+0000
TZOFFSETTO:+0100
TZNAME:BST
DTSTART:20230326T010000
END:DAYLIGHT
BEGIN:STANDARD
TZOFFSETFROM:+0100
TZOFFSETTO:+0000
TZNAME:GMT
DTSTART:20231029T010000
END:STANDARD
BEGIN:DAYLIGHT
TZOFFSETFROM:+0000
TZOFFSETTO:+0100
TZNAME:BST
DTSTART:20240331T010000
END:DAYLIGHT
BEGIN:STANDARD
TZOFFSETFROM:+0100
TZOFFSETTO:+0000
TZNAME:GMT
DTSTART:20241027T010000
END:STANDARD
BEGIN:DAYLIGHT
TZOFFSETFROM:+0000
TZOFFSETTO:+0100
TZNAME:BST
DTSTART:20250330T010000
END:DAYLIGHT
BEGIN:STANDARD
TZOFFSETFROM:+0100
TZOFFSETTO:+0000
TZNAME:GMT
DTSTART:20251026T010000
END:STANDARD
END:VTIMEZONE
BEGIN:VEVENT
DTSTART;TZID=Europe/London:20240508T101500
DTEND;TZID=Europe/London:20240508T150000
DTSTAMP:20260422T081958
CREATED:20240228T124929Z
LAST-MODIFIED:20240228T124929Z
UID:10003377-1715163300-1715180400@www.textileinstitute.org
SUMMARY:Shirley Technology Seminar: Securing Compliance & Transparency: How OEKO-TEX® Certification Services Can Help You and Your Supply Chain
DESCRIPTION:Venue: Novotel Hotel\, Leicester\, UK \nDate: Wednesday 8 May 2024 \nTime: 10:15 – 15:00 hrs GMT \nThis seminar is a wonderful opportunity for UK manufacturers and brands to meet with the Shirley® team on our UK Roadshow\, and discuss how OEKO-TEX® certifications can help you demonstrate a transparent supply chain and your sustainability credentials\, whilst strengthening compliance with regulatory and market requirements. \nClick here for more information and registration.
URL:https://www.textileinstitute.org/event/shirley-technology-seminar-securing-compliance-transparency-how-oeko-tex-certification-services-can-help-you-and-your-supply-chain-2/
CATEGORIES:Partner Events
END:VEVENT
BEGIN:VEVENT
DTSTART;TZID=Europe/London:20240510T140000
DTEND;TZID=Europe/London:20240510T170000
DTSTAMP:20260422T081958
CREATED:20240328T110251Z
LAST-MODIFIED:20240328T111237Z
UID:10003458-1715349600-1715360400@www.textileinstitute.org
SUMMARY:The University of Manchester\, Fashion Business Technology Class of 2024 Graduate Showcase
DESCRIPTION:Date: Friday 10 May 2024 \nTime: 14:00 – 17:00 hrs BST \nVenue: The University of Manchester \nRobyn Ingham\, TI Senior Events Coordinator and Ellen Talbot\, Senior Membership Coordinator will be in attendance and can be found on the TI stand – come and see us to hear all about TI Membership\, Events\, Publications and Professional Qualifications!  \nA hybrid showcase\, connecting research & talent to industry. \nThe University of Manchester are delighted to invite you to the University of Manchester\, Fashion Business Technology Graduate Showcase on Friday 10th May 2024 from 15:00-17:00 in Manchester Engineering Building (MECD). \nThis year our event has gone bigger\, and we will be showcasing our research and talent as a hybrid event\, with an online exhibition opening on Tuesday 7th of May as well as an in-person event on Friday 10th of May bringing Fashion Business Technology Excellence together. \nDetails of the showcase run as outlined below and you can sign up to attend either in person or virtually here. \n 1/ Launch of the Online Showcase on Tuesday 7 May\, explore the graduate talents showcasing a broad range of Fashion Business Technology projects. You can already have a sneak peek at what is to come by visiting the digital showcase @ http://www.manchester.ac.uk/fbtshowcase \n 2/ The Event: Friday 10 May 14:00 – 17:00 hrs BST – Manchester\, Engineering Building\, Event Space Booth Street East \n\n\n\n\n14.00 – 15:00 \n\n\nOpening of exhibition\, Welcome & exhibitors’ presentation \n\n\n\n\n15:00 – 16:00 \n\n\nReception & Networking \n\n\n\n\n16.00- 17.00 \n\n\nShortlisted projects for Fashion Award\, Business Award and Technology Award\, Awards finalists & Industry insiders \n\n\n\n\n  \nThe University of Manchester look forward to welcoming you on Friday 10 May 2024. If you have any questions\, please do not hesitate to get in touch with Tracey Smith: tracey.smith@manchester.ac.uk
URL:https://www.textileinstitute.org/event/the-university-of-manchester-fashion-business-technology-class-of-2024-graduate-showcase/
CATEGORIES:Partner Events
END:VEVENT
BEGIN:VEVENT
DTSTART;VALUE=DATE:20240521
DTEND;VALUE=DATE:20240524
DTSTAMP:20260422T081958
CREATED:20240213T141836Z
LAST-MODIFIED:20240213T141836Z
UID:10003353-1716249600-1716508799@www.textileinstitute.org
SUMMARY:Intertex Portugal 2024
DESCRIPTION:Venue: Rua Interior do EUROPARQUE\, Apartado 160\, 4520-153\, Santa Maria da Feira\, Portugal \nDate: 21 – 23 May 2024 \nIntertex Portugal is one of the most influential and comprehensive international exhibitions covering all aspects of textile industry. The exhibition will be the hub for sector leading manufacturers and key players in one of the most dynamic markets for textile industry. This global exhibition aims to build a strong bridge between textile and fashion manufacturers from all around the world and professional buyers. Intertex Portugal anticipates the participation of over 250 top-tier exhibitors\, alongside the anticipated presence of more than 5000 professionals from over 20 countries. Intertex Portugal is an unmissable international event that will make an impact global textile and fashion industry. \nPlease visit the website for more information and registration.
URL:https://www.textileinstitute.org/event/intertex-portugal-2024/
CATEGORIES:Partner Events
END:VEVENT
END:VCALENDAR