BEGIN:VCALENDAR
VERSION:2.0
PRODID:-//The Textile Institute - ECPv6.15.17.1//NONSGML v1.0//EN
CALSCALE:GREGORIAN
METHOD:PUBLISH
X-WR-CALNAME:The Textile Institute
X-ORIGINAL-URL:https://www.textileinstitute.org
X-WR-CALDESC:Events for The Textile Institute
REFRESH-INTERVAL;VALUE=DURATION:PT1H
X-Robots-Tag:noindex
X-PUBLISHED-TTL:PT1H
BEGIN:VTIMEZONE
TZID:Europe/London
BEGIN:DAYLIGHT
TZOFFSETFROM:+0000
TZOFFSETTO:+0100
TZNAME:BST
DTSTART:20230326T010000
END:DAYLIGHT
BEGIN:STANDARD
TZOFFSETFROM:+0100
TZOFFSETTO:+0000
TZNAME:GMT
DTSTART:20231029T010000
END:STANDARD
BEGIN:DAYLIGHT
TZOFFSETFROM:+0000
TZOFFSETTO:+0100
TZNAME:BST
DTSTART:20240331T010000
END:DAYLIGHT
BEGIN:STANDARD
TZOFFSETFROM:+0100
TZOFFSETTO:+0000
TZNAME:GMT
DTSTART:20241027T010000
END:STANDARD
BEGIN:DAYLIGHT
TZOFFSETFROM:+0000
TZOFFSETTO:+0100
TZNAME:BST
DTSTART:20250330T010000
END:DAYLIGHT
BEGIN:STANDARD
TZOFFSETFROM:+0100
TZOFFSETTO:+0000
TZNAME:GMT
DTSTART:20251026T010000
END:STANDARD
END:VTIMEZONE
BEGIN:VEVENT
DTSTART;VALUE=DATE:20240702
DTEND;VALUE=DATE:20240705
DTSTAMP:20260422T053851
CREATED:20231204T170452Z
LAST-MODIFIED:20231204T170452Z
UID:10003315-1719878400-1720137599@www.textileinstitute.org
SUMMARY:Digital Fashion Innovation Conference 2024
DESCRIPTION:Date: 02 – 04 July 2024 \nTime: TBC \nVenue: TBC \nDigital fashion has emerged as a multidisciplinary field of knowledge that attracts overlapping interests from academics\, researchers and professionals coming from fashion design\, business and technology; computer science\, software engineering\, animation and gaming\, anthropometrics\, supply chain management and industry 4.0\, big data and artificial intelligence\, and industrial sustainability. \nDFIC is a platform for universal information exchange\, networking\, dissemination of research\, innovation\, creative practice and pedagogy surrounding digitalised fashion world as well for the generation of new ideas and collaborations. The event will include presentations from industry\, research papers\, forums\, research paper competition\, poster exhibition and 3D design and illustration competition and exhibition. \nCall for Papers and Presentations: \nAbstracts are welcome from both industry and academia. Researchers\, academics\, industry experts\, professionals and students are invited to send abstracts relating to research and innovation following the abstract submission guideline. \nImportant Dates: \nAbstract submission: 30 January 2024 \nAbstract acceptance sent to authors: 15 February 2024 \nOnce the abstract has been accepted \nShort paper (academic) and presentation submission: 30 May 2024. \nClick here for the full details. \nPlease forward all questions to the Conference Chair\, Dr Abu Sadat Muhammad Sayem via dfi@mmu.ac.uk.
URL:https://www.textileinstitute.org/event/digital-fashion-innovation-conference-2024/
CATEGORIES:Partner Events
END:VEVENT
END:VCALENDAR