BEGIN:VCALENDAR
VERSION:2.0
PRODID:-//The Textile Institute - ECPv6.15.17.1//NONSGML v1.0//EN
CALSCALE:GREGORIAN
METHOD:PUBLISH
X-WR-CALNAME:The Textile Institute
X-ORIGINAL-URL:https://www.textileinstitute.org
X-WR-CALDESC:Events for The Textile Institute
REFRESH-INTERVAL;VALUE=DURATION:PT1H
X-Robots-Tag:noindex
X-PUBLISHED-TTL:PT1H
BEGIN:VTIMEZONE
TZID:Europe/London
BEGIN:DAYLIGHT
TZOFFSETFROM:+0000
TZOFFSETTO:+0100
TZNAME:BST
DTSTART:20230326T010000
END:DAYLIGHT
BEGIN:STANDARD
TZOFFSETFROM:+0100
TZOFFSETTO:+0000
TZNAME:GMT
DTSTART:20231029T010000
END:STANDARD
BEGIN:DAYLIGHT
TZOFFSETFROM:+0000
TZOFFSETTO:+0100
TZNAME:BST
DTSTART:20240331T010000
END:DAYLIGHT
BEGIN:STANDARD
TZOFFSETFROM:+0100
TZOFFSETTO:+0000
TZNAME:GMT
DTSTART:20241027T010000
END:STANDARD
BEGIN:DAYLIGHT
TZOFFSETFROM:+0000
TZOFFSETTO:+0100
TZNAME:BST
DTSTART:20250330T010000
END:DAYLIGHT
BEGIN:STANDARD
TZOFFSETFROM:+0100
TZOFFSETTO:+0000
TZNAME:GMT
DTSTART:20251026T010000
END:STANDARD
END:VTIMEZONE
BEGIN:VEVENT
DTSTART;TZID=Europe/London:20240801T101500
DTEND;TZID=Europe/London:20240801T150000
DTSTAMP:20260422T040745
CREATED:20240228T125220Z
LAST-MODIFIED:20240228T125220Z
UID:10003378-1722507300-1722524400@www.textileinstitute.org
SUMMARY:Shirley Technology Seminar: Securing Compliance & Transparency: How OEKO-TEX® Certification Services Can Help You and Your Supply Chain
DESCRIPTION:Venue: The Pullman Hotel\, London\, UK \nDate: Thursday 1 August 2024 \nTime: 10:15 – 15:00 hrs BST \nThis seminar is a wonderful opportunity for UK manufacturers and brands to meet with the Shirley® team on our UK Roadshow\, and discuss how OEKO-TEX® certifications can help you demonstrate a transparent supply chain and your sustainability credentials\, whilst strengthening compliance with regulatory and market requirements. \nClick here for more information and registration.
URL:https://www.textileinstitute.org/event/shirley-technology-seminar-securing-compliance-transparency-how-oeko-tex-certification-services-can-help-you-and-your-supply-chain-3/
CATEGORIES:Partner Events
END:VEVENT
END:VCALENDAR