BEGIN:VCALENDAR
VERSION:2.0
PRODID:-//The Textile Institute - ECPv6.15.17.1//NONSGML v1.0//EN
CALSCALE:GREGORIAN
METHOD:PUBLISH
X-WR-CALNAME:The Textile Institute
X-ORIGINAL-URL:https://www.textileinstitute.org
X-WR-CALDESC:Events for The Textile Institute
REFRESH-INTERVAL;VALUE=DURATION:PT1H
X-Robots-Tag:noindex
X-PUBLISHED-TTL:PT1H
BEGIN:VTIMEZONE
TZID:Europe/London
BEGIN:DAYLIGHT
TZOFFSETFROM:+0000
TZOFFSETTO:+0100
TZNAME:BST
DTSTART:20230326T010000
END:DAYLIGHT
BEGIN:STANDARD
TZOFFSETFROM:+0100
TZOFFSETTO:+0000
TZNAME:GMT
DTSTART:20231029T010000
END:STANDARD
BEGIN:DAYLIGHT
TZOFFSETFROM:+0000
TZOFFSETTO:+0100
TZNAME:BST
DTSTART:20240331T010000
END:DAYLIGHT
BEGIN:STANDARD
TZOFFSETFROM:+0100
TZOFFSETTO:+0000
TZNAME:GMT
DTSTART:20241027T010000
END:STANDARD
BEGIN:DAYLIGHT
TZOFFSETFROM:+0000
TZOFFSETTO:+0100
TZNAME:BST
DTSTART:20250330T010000
END:DAYLIGHT
BEGIN:STANDARD
TZOFFSETFROM:+0100
TZOFFSETTO:+0000
TZNAME:GMT
DTSTART:20251026T010000
END:STANDARD
END:VTIMEZONE
BEGIN:VEVENT
DTSTART;TZID=Europe/London:20240903T090000
DTEND;TZID=Europe/London:20240904T163000
DTSTAMP:20260422T023450
CREATED:20240612T094603Z
LAST-MODIFIED:20240612T094603Z
UID:10003463-1725354000-1725467400@www.textileinstitute.org
SUMMARY:Future Fibres Network + Sandpit Meeting
DESCRIPTION:Date: Tuesday 3 – 4 September 2024 \nVenue: Create Lab\, Barbara Hepworth Building\, University of Huddersfield\, Huddersfield\, UK \nJoin The University of Huddersfield to meet the Future Fibres Network + team and discuss how we are bringing environmental science into the heart of the UK fashion\, apparel and textiles sector. They will report their progress with their £1 million funding call. \nTuesday 3 September (for all stakeholders) 09:00-16:30 \nWednesday 4 September (consortium partners only) -09:00-12:30 (depart after lunch) \nScan the below to register. \n  \n 
URL:https://www.textileinstitute.org/event/future-fibres-network-sandpit-meeting/
CATEGORIES:Partner Events
END:VEVENT
END:VCALENDAR