BEGIN:VCALENDAR
VERSION:2.0
PRODID:-//The Textile Institute - ECPv6.15.17.1//NONSGML v1.0//EN
CALSCALE:GREGORIAN
METHOD:PUBLISH
X-ORIGINAL-URL:https://www.textileinstitute.org
X-WR-CALDESC:Events for The Textile Institute
REFRESH-INTERVAL;VALUE=DURATION:PT1H
X-Robots-Tag:noindex
X-PUBLISHED-TTL:PT1H
BEGIN:VTIMEZONE
TZID:Europe/London
BEGIN:DAYLIGHT
TZOFFSETFROM:+0000
TZOFFSETTO:+0100
TZNAME:BST
DTSTART:20190331T010000
END:DAYLIGHT
BEGIN:STANDARD
TZOFFSETFROM:+0100
TZOFFSETTO:+0000
TZNAME:GMT
DTSTART:20191027T010000
END:STANDARD
BEGIN:DAYLIGHT
TZOFFSETFROM:+0000
TZOFFSETTO:+0100
TZNAME:BST
DTSTART:20200329T010000
END:DAYLIGHT
BEGIN:STANDARD
TZOFFSETFROM:+0100
TZOFFSETTO:+0000
TZNAME:GMT
DTSTART:20201025T010000
END:STANDARD
BEGIN:DAYLIGHT
TZOFFSETFROM:+0000
TZOFFSETTO:+0100
TZNAME:BST
DTSTART:20210328T010000
END:DAYLIGHT
BEGIN:STANDARD
TZOFFSETFROM:+0100
TZOFFSETTO:+0000
TZNAME:GMT
DTSTART:20211031T010000
END:STANDARD
END:VTIMEZONE
BEGIN:VEVENT
DTSTART;VALUE=DATE:20200505
DTEND;VALUE=DATE:20200701
DTSTAMP:20260423T172434
CREATED:20200513T141417Z
LAST-MODIFIED:20200603T123353Z
UID:10001975-1588636800-1593561599@www.textileinstitute.org
SUMMARY:Innovate Textile and Apparel Online 2020
DESCRIPTION:Registered attendees have access to this content until 30th June 2020 \nBook your tickets for Innovate Textile & Apparel Online and get 5% off by using the code “TT1” \nIn just over a month’s time\, WTiN will host it’s first virtual conference at  Innovate Textile & Apparel (ITA) Online. \nExperts on the digitalisation of the textile & apparel industry will share their knowledge and experience on the latest developments and innovations set to disrupt the landscape of the industry. \nHere is some of what you will learn: \n• How 3D simulation can aid in clothing development \n• What can be done to help combat Covid-19 through the use of textiles \n• How to enhance supply chain visibility \n• How RFID tags can empower a circular economy \n• What drivers are shaping the current landscape of innovation in digitalisation and materials \nTo register your place\, and to see the full ITA Online agenda here.
URL:https://www.textileinstitute.org/event/inovate-textile-and-apparel-online-2020/
LOCATION:Leeds\, UK\, Leeds\, United Kingdom
CATEGORIES:Partner Events,Textile Institute
ATTACH;FMTTYPE=image/png:https://www.textileinstitute.org/wp-content/uploads/2020/05/ITA-Online-Textile-Institute.png
END:VEVENT
BEGIN:VEVENT
DTSTART;TZID=Europe/London:20200528T133000
DTEND;TZID=Europe/London:20200528T143000
DTSTAMP:20260423T172434
CREATED:20200514T103122Z
LAST-MODIFIED:20200514T103322Z
UID:10002002-1590672600-1590676200@www.textileinstitute.org
SUMMARY:Webinar on Powering E-Textile
DESCRIPTION:Supplying electrical power to e-textiles is currently a technical bottleneck in the majority of applications. Relying on conventional\, rigid batteries is incompatible with the feel of a fabric and typical application requirements such as laundering. \nThis webinar will introduce technologies that are being developed to integrate power supplies within the textile itself offering the potential for fully integrated\, flexible e-textile systems. The webinar will cover both energy storage (textile batteries and super capacitors) and energy harvesting power supplies that convert ambient energy into electrical power. \nOnce registered\, details will be sent to you on how to access the webinar. \nPlease click here to register.
URL:https://www.textileinstitute.org/event/webinar-on-powering-e-textile/
LOCATION:Webinar
CATEGORIES:Textile Institute
END:VEVENT
END:VCALENDAR