BEGIN:VCALENDAR
VERSION:2.0
PRODID:-//The Textile Institute - ECPv6.15.17.1//NONSGML v1.0//EN
CALSCALE:GREGORIAN
METHOD:PUBLISH
X-ORIGINAL-URL:https://www.textileinstitute.org
X-WR-CALDESC:Events for The Textile Institute
REFRESH-INTERVAL;VALUE=DURATION:PT1H
X-Robots-Tag:noindex
X-PUBLISHED-TTL:PT1H
BEGIN:VTIMEZONE
TZID:Europe/London
BEGIN:DAYLIGHT
TZOFFSETFROM:+0000
TZOFFSETTO:+0100
TZNAME:BST
DTSTART:20190331T010000
END:DAYLIGHT
BEGIN:STANDARD
TZOFFSETFROM:+0100
TZOFFSETTO:+0000
TZNAME:GMT
DTSTART:20191027T010000
END:STANDARD
BEGIN:DAYLIGHT
TZOFFSETFROM:+0000
TZOFFSETTO:+0100
TZNAME:BST
DTSTART:20200329T010000
END:DAYLIGHT
BEGIN:STANDARD
TZOFFSETFROM:+0100
TZOFFSETTO:+0000
TZNAME:GMT
DTSTART:20201025T010000
END:STANDARD
BEGIN:DAYLIGHT
TZOFFSETFROM:+0000
TZOFFSETTO:+0100
TZNAME:BST
DTSTART:20210328T010000
END:DAYLIGHT
BEGIN:STANDARD
TZOFFSETFROM:+0100
TZOFFSETTO:+0000
TZNAME:GMT
DTSTART:20211031T010000
END:STANDARD
END:VTIMEZONE
BEGIN:VEVENT
DTSTART;TZID=Europe/London:20200909T090000
DTEND;TZID=Europe/London:20200909T180000
DTSTAMP:20260423T112244
CREATED:20200318T161535Z
LAST-MODIFIED:20200616T131650Z
UID:10001846-1599642000-1599674400@www.textileinstitute.org
SUMMARY:Expression of Interest: What are the Materials and Manufacturing Challenges in Making Fashion Sustainable?
DESCRIPTION:
URL:https://www.textileinstitute.org/event/expression-of-interest-what-are-the-materials-and-manufacturing-challenges-in-making-fashion-sustainable/
LOCATION:Leeds\, UK\, Leeds\, United Kingdom
CATEGORIES:Textile Institute
ATTACH;FMTTYPE=image/png:https://www.textileinstitute.org/wp-content/uploads/2020/03/events-logo-university-of-leeds.png
END:VEVENT
BEGIN:VEVENT
DTSTART;VALUE=DATE:20200928
DTEND;VALUE=DATE:20201001
DTSTAMP:20260423T112244
CREATED:20200603T124817Z
LAST-MODIFIED:20200616T132841Z
UID:10002083-1601251200-1601510399@www.textileinstitute.org
SUMMARY:Digital Fashion Innovation (DFI) E-Symposium
DESCRIPTION:Format of the Conference: Online \nDate: Monday 28 – Wednesday 30 September 2020 \nYou are cordially invited to participate in the DFI 2020 e-Symposium\, in partnership with our Corporate Members\, Manchester Metropolitan university. This is an international virtual forum for the dissemination of research\, innovation\, creative practice and pedagogy surrounding digitalised fashion world and for the generation of new ideas and collaborations. The event covers the following topics\, but are not limited to: \n\nDigital Fashion Design and e-Prototyping\nDigital Fashion Business and Promotion\nDigital Apparel and Smart e-Technology\n\nSymposium Programme: \n\nDay 1\nMonday 28 September 2020\nGMT 12:00 – 14:00 \nDay 2\nTuesday 29 September 2020\nGMT 12:00 – 14:00 \nDay 3\nWednesday 30 September 2020\nGMT 12:00 – 14:00 \n\nPlease click here to register\, and for more information including call for papers\, visit the Manchester Fashion Institute Website.
URL:https://www.textileinstitute.org/event/digital-fashion-innovation-dfi-e-symposium/
CATEGORIES:Textile Institute
ATTACH;FMTTYPE=image/jpeg:https://www.textileinstitute.org/wp-content/uploads/2020/06/Digital-Fashion-Innovation-DFI-E-Symposium.jpg
END:VEVENT
END:VCALENDAR