BEGIN:VCALENDAR
VERSION:2.0
PRODID:-//The Textile Institute - ECPv6.15.17.1//NONSGML v1.0//EN
CALSCALE:GREGORIAN
METHOD:PUBLISH
X-ORIGINAL-URL:https://www.textileinstitute.org
X-WR-CALDESC:Events for The Textile Institute
REFRESH-INTERVAL;VALUE=DURATION:PT1H
X-Robots-Tag:noindex
X-PUBLISHED-TTL:PT1H
BEGIN:VTIMEZONE
TZID:Europe/London
BEGIN:DAYLIGHT
TZOFFSETFROM:+0000
TZOFFSETTO:+0100
TZNAME:BST
DTSTART:20190331T010000
END:DAYLIGHT
BEGIN:STANDARD
TZOFFSETFROM:+0100
TZOFFSETTO:+0000
TZNAME:GMT
DTSTART:20191027T010000
END:STANDARD
BEGIN:DAYLIGHT
TZOFFSETFROM:+0000
TZOFFSETTO:+0100
TZNAME:BST
DTSTART:20200329T010000
END:DAYLIGHT
BEGIN:STANDARD
TZOFFSETFROM:+0100
TZOFFSETTO:+0000
TZNAME:GMT
DTSTART:20201025T010000
END:STANDARD
BEGIN:DAYLIGHT
TZOFFSETFROM:+0000
TZOFFSETTO:+0100
TZNAME:BST
DTSTART:20210328T010000
END:DAYLIGHT
BEGIN:STANDARD
TZOFFSETFROM:+0100
TZOFFSETTO:+0000
TZNAME:GMT
DTSTART:20211031T010000
END:STANDARD
END:VTIMEZONE
BEGIN:VEVENT
DTSTART;VALUE=DATE:20201103
DTEND;VALUE=DATE:20201105
DTSTAMP:20260423T080320
CREATED:20200529T111206Z
LAST-MODIFIED:20200603T110626Z
UID:10002074-1604361600-1604534399@www.textileinstitute.org
SUMMARY:E-Textiles 2020 – Virtual Conference
DESCRIPTION:Date: Tuesday 3 – Wednesday 4 November 2020 \nE- Textiles 2020 is an international conference on the challenges\, opportunities\, innovations and applications in electronic textiles that will give people from academia and industry the opportunity to discuss the exciting innovations and challenges in the rapidly emerging field of e-textiles. Topics include\, but are not limited to: \n\nElectronic Textiles\nTextile Power Supplies\nTextile Sensors and Actuators\nManufacturing and Materials\nApplications\n\nClick here for more information. \nThe virtual conference will include presentations and Question and Answer sessions. Details on how to register will be available soon.
URL:https://www.textileinstitute.org/event/e-textiles-2020-virtual-conference-2/
CATEGORIES:Textile Institute
ATTACH;FMTTYPE=image/jpeg:https://www.textileinstitute.org/wp-content/uploads/2020/05/rsz_network_logo.jpg
END:VEVENT
BEGIN:VEVENT
DTSTART;TZID=Europe/London:20201111T160000
DTEND;TZID=Europe/London:20201111T180000
DTSTAMP:20260423T080320
CREATED:20201124T164609Z
LAST-MODIFIED:20201124T165405Z
UID:10001971-1605110400-1605117600@www.textileinstitute.org
SUMMARY:University of Huddersfield Public Lecture Series - Mark Jarvis
DESCRIPTION:Webinar  \nDate: Wednesday 11 November 2020 \nTime: 16:00 hours \nCorporate member the University of Huddersfield are introducing an exciting new public lecture series with influential speakers from across the UK’s fashion and textiles landscape.
URL:https://www.textileinstitute.org/event/university-of-huddersfield-public-lecture-series-mark-jarvis/
CATEGORIES:Partner Events,Textile Institute
END:VEVENT
BEGIN:VEVENT
DTSTART;TZID=Europe/London:20201125T160000
DTEND;TZID=Europe/London:20201125T180000
DTSTAMP:20260423T080320
CREATED:20201125T104557Z
LAST-MODIFIED:20201125T104557Z
UID:10002175-1606320000-1606327200@www.textileinstitute.org
SUMMARY:University of Huddersfield Public Lecture Series-  Suzy Shepherd
DESCRIPTION:Webinar  \nDate: Wednesday 25 November 2020 \nTime: 16:00 hours \nCorporate member the University of Huddersfield are introducing an exciting new public lecture series with influential speakers from across the UK’s fashion and textiles landscape.
URL:https://www.textileinstitute.org/event/university-of-huddersfield-public-lecture-series-suzy-shepherd/
CATEGORIES:Partner Events,Textile Institute
END:VEVENT
END:VCALENDAR