BEGIN:VCALENDAR
VERSION:2.0
PRODID:-//The Textile Institute - ECPv6.15.17.1//NONSGML v1.0//EN
CALSCALE:GREGORIAN
METHOD:PUBLISH
X-WR-CALNAME:The Textile Institute
X-ORIGINAL-URL:https://www.textileinstitute.org
X-WR-CALDESC:Events for The Textile Institute
REFRESH-INTERVAL;VALUE=DURATION:PT1H
X-Robots-Tag:noindex
X-PUBLISHED-TTL:PT1H
BEGIN:VTIMEZONE
TZID:Europe/London
BEGIN:DAYLIGHT
TZOFFSETFROM:+0000
TZOFFSETTO:+0100
TZNAME:BST
DTSTART:20200329T010000
END:DAYLIGHT
BEGIN:STANDARD
TZOFFSETFROM:+0100
TZOFFSETTO:+0000
TZNAME:GMT
DTSTART:20201025T010000
END:STANDARD
BEGIN:DAYLIGHT
TZOFFSETFROM:+0000
TZOFFSETTO:+0100
TZNAME:BST
DTSTART:20210328T010000
END:DAYLIGHT
BEGIN:STANDARD
TZOFFSETFROM:+0100
TZOFFSETTO:+0000
TZNAME:GMT
DTSTART:20211031T010000
END:STANDARD
BEGIN:DAYLIGHT
TZOFFSETFROM:+0000
TZOFFSETTO:+0100
TZNAME:BST
DTSTART:20220327T010000
END:DAYLIGHT
BEGIN:STANDARD
TZOFFSETFROM:+0100
TZOFFSETTO:+0000
TZNAME:GMT
DTSTART:20221030T010000
END:STANDARD
END:VTIMEZONE
BEGIN:VEVENT
DTSTART;TZID=Europe/London:20210323T180000
DTEND;TZID=Europe/London:20210323T190000
DTSTAMP:20260423T015007
CREATED:20210301T175500Z
LAST-MODIFIED:20210322T162537Z
UID:10002327-1616522400-1616526000@www.textileinstitute.org
SUMMARY:In Conversation with Natalie Warner and Kate Atherley: Making Patterns
DESCRIPTION:Online
URL:https://www.textileinstitute.org/event/in-conversation-with-natalie-warner-and-kate-atherley-making-patterns/
CATEGORIES:Textile Institute
ATTACH;FMTTYPE=image/png:https://www.textileinstitute.org/wp-content/uploads/2021/03/textiles-events-conversationwithnatalie-featured.png
END:VEVENT
BEGIN:VEVENT
DTSTART;VALUE=DATE:20210324
DTEND;VALUE=DATE:20210327
DTSTAMP:20260423T015007
CREATED:20210226T114717Z
LAST-MODIFIED:20210226T120803Z
UID:10002269-1616544000-1616803199@www.textileinstitute.org
SUMMARY:The Introduction to Textiles Short Course Online
DESCRIPTION:Format of the course: Zoom webinar \nDate: Wednesday 24 – Friday  26 March 2021 \nThis intensive three day training short course is organised for the benefit of all those who are engaged in the manufacture\, research and development as well as the commercial aspects of textile business. The course will cover Fibres\, yarns and fabrics used in textile products for apparel\, household and technical textiles applications as core modules. The third day will offer two specialist modules covering dyeing & finishing and testing & analysis. \nCourse agenda \nDay 1 – Fibres and Yarns \nDay 2 -Fabric testing & analysis\, Warp & weft knitting and Nonwoven fabrics \nDay 3 – Weaving and Dyeing & finishing \nInformation  \nPlease click here to download the full programme. \nPlease note the online course rate is reduced by £100\, click here to download the booking form. \nFor more information or if you have any questions\, please contact Robyn Ingham\, Events Coordinator ringham@textileinst.org.uk
URL:https://www.textileinstitute.org/event/28614/
CATEGORIES:Textile Institute
ATTACH;FMTTYPE=image/png:https://www.textileinstitute.org/wp-content/uploads/2020/03/events-logo-textile-institute.png
END:VEVENT
BEGIN:VEVENT
DTSTART;TZID=Europe/London:20210324T080000
DTEND;TZID=Europe/London:20210324T170000
DTSTAMP:20260423T015007
CREATED:20210301T154358Z
LAST-MODIFIED:20210301T154639Z
UID:10002311-1616572800-1616605200@www.textileinstitute.org
SUMMARY:London & SE England Section: The Sustainable Fashion Collective: What are Ethical Fabrics?
DESCRIPTION:Format of the event: Zoom meeting \nDate: Wednesday 24 March 2021 \nTime: 16:00 – 17:00 hours GMT \nGuest Speaker: Charlie Bradley Ross\, award-winning social entrepreneur\, assisted by Stephanie Steele\, Digital Content Manager. \nCharlie Bradley Ross is the founder of Offset Warehouse and The Sustainable Fashion Collective. In this presentation\, Charlie will introduce: \nOffset Warehouse\, founded to provide designers and makers with smaller quantities of ethical and sustainable textiles; how they source\, some examples of their favourite eco fibres\, and case studies of producers they work with. \nThe Sustainable Fashion Collective\, a collective of fashion entrepreneurs working to create beneficial change in the industry; how and why they use community – both on their Membership platform and through social media channels – to build confidence in working responsibly and raise awareness on issues within fashion\, textiles and design sectors. \nPlease click here to book your place for free!
URL:https://www.textileinstitute.org/event/london-se-england-section-webinar-the-sustainable-fashion-collective-what-are-ethical-fabrics/
CATEGORIES:Textile Institute
ATTACH;FMTTYPE=image/png:https://www.textileinstitute.org/wp-content/uploads/2020/03/events-logo-textile-institute.png
END:VEVENT
END:VCALENDAR