BEGIN:VCALENDAR
VERSION:2.0
PRODID:-//The Textile Institute - ECPv6.15.17.1//NONSGML v1.0//EN
CALSCALE:GREGORIAN
METHOD:PUBLISH
X-WR-CALNAME:The Textile Institute
X-ORIGINAL-URL:https://www.textileinstitute.org
X-WR-CALDESC:Events for The Textile Institute
REFRESH-INTERVAL;VALUE=DURATION:PT1H
X-Robots-Tag:noindex
X-PUBLISHED-TTL:PT1H
BEGIN:VTIMEZONE
TZID:Europe/London
BEGIN:DAYLIGHT
TZOFFSETFROM:+0000
TZOFFSETTO:+0100
TZNAME:BST
DTSTART:20200329T010000
END:DAYLIGHT
BEGIN:STANDARD
TZOFFSETFROM:+0100
TZOFFSETTO:+0000
TZNAME:GMT
DTSTART:20201025T010000
END:STANDARD
BEGIN:DAYLIGHT
TZOFFSETFROM:+0000
TZOFFSETTO:+0100
TZNAME:BST
DTSTART:20210328T010000
END:DAYLIGHT
BEGIN:STANDARD
TZOFFSETFROM:+0100
TZOFFSETTO:+0000
TZNAME:GMT
DTSTART:20211031T010000
END:STANDARD
BEGIN:DAYLIGHT
TZOFFSETFROM:+0000
TZOFFSETTO:+0100
TZNAME:BST
DTSTART:20220327T010000
END:DAYLIGHT
BEGIN:STANDARD
TZOFFSETFROM:+0100
TZOFFSETTO:+0000
TZNAME:GMT
DTSTART:20221030T010000
END:STANDARD
END:VTIMEZONE
BEGIN:VEVENT
DTSTART;TZID=Europe/London:20210623T170000
DTEND;TZID=Europe/London:20210623T190000
DTSTAMP:20260422T214017
CREATED:20210525T143843Z
LAST-MODIFIED:20210525T143843Z
UID:10002517-1624467600-1624474800@www.textileinstitute.org
SUMMARY:The London and SE England Section AGM
DESCRIPTION:Format of the event: Zoom Meeting \nDate: Wednesday 23 June 2021 \nTime: 17:00 hours BST \nFollowing the success of the last Annual General Meeting in 2020\, you are invited to join the London & South East England Section AGM 2021\, which will also be held digitally via Zoom. \nWe are delighted that the Guest Speaker at the event\, following the official business of the AGM\, will be Chairman of the Textile Institute Council\, Elizabeth Fox with her talk “Stylishly Small yet Legally Challenging”. \nAs Executive Director of The National Childrenswear Association of Great Britain and Ireland (NCWA)\, Elizabeth Fox will talk of Childrenswear and of her work with the Association. \nClick here to register.
URL:https://www.textileinstitute.org/event/the-london-and-se-england-section-agm-2/
CATEGORIES:Textile Institute
ATTACH;FMTTYPE=image/png:https://www.textileinstitute.org/wp-content/uploads/2020/03/events-logo-textile-institute.png
END:VEVENT
END:VCALENDAR