BEGIN:VCALENDAR
VERSION:2.0
PRODID:-//The Textile Institute - ECPv6.15.17.1//NONSGML v1.0//EN
CALSCALE:GREGORIAN
METHOD:PUBLISH
X-ORIGINAL-URL:https://www.textileinstitute.org
X-WR-CALDESC:Events for The Textile Institute
REFRESH-INTERVAL;VALUE=DURATION:PT1H
X-Robots-Tag:noindex
X-PUBLISHED-TTL:PT1H
BEGIN:VTIMEZONE
TZID:Europe/London
BEGIN:DAYLIGHT
TZOFFSETFROM:+0000
TZOFFSETTO:+0100
TZNAME:BST
DTSTART:20200329T010000
END:DAYLIGHT
BEGIN:STANDARD
TZOFFSETFROM:+0100
TZOFFSETTO:+0000
TZNAME:GMT
DTSTART:20201025T010000
END:STANDARD
BEGIN:DAYLIGHT
TZOFFSETFROM:+0000
TZOFFSETTO:+0100
TZNAME:BST
DTSTART:20210328T010000
END:DAYLIGHT
BEGIN:STANDARD
TZOFFSETFROM:+0100
TZOFFSETTO:+0000
TZNAME:GMT
DTSTART:20211031T010000
END:STANDARD
BEGIN:DAYLIGHT
TZOFFSETFROM:+0000
TZOFFSETTO:+0100
TZNAME:BST
DTSTART:20220327T010000
END:DAYLIGHT
BEGIN:STANDARD
TZOFFSETFROM:+0100
TZOFFSETTO:+0000
TZNAME:GMT
DTSTART:20221030T010000
END:STANDARD
END:VTIMEZONE
BEGIN:VEVENT
DTSTART;TZID=Europe/London:20210709T140000
DTEND;TZID=Europe/London:20210709T160000
DTSTAMP:20260422T202130
CREATED:20210705T121833Z
LAST-MODIFIED:20210705T124124Z
UID:10002676-1625839200-1625846400@www.textileinstitute.org
SUMMARY:The North Indian Section webinar: "Cotton spun lace nonwovens for medicated wipes and other similar applications"
DESCRIPTION:Format of the event: Webinar \nDate: Friday 9 July 2021 \nTime: 14:00 hrs BST / 18:30 hrs IST \nJoin the North Indian Section of the Textile Institute for a talk by Mr Ashok Kulkarni on “Cotton spun lace nonwovens for medicated wipes and other similar applications”. \nClick here to join the event.  Meeting ID: 819 5065 4013 | Passcode: 300718
URL:https://www.textileinstitute.org/event/the-north-indian-section-webinar-cotton-spun-lace-nonwovens-for-medicated-wipes-and-other-similar-applications/
CATEGORIES:Textile Institute
ATTACH;FMTTYPE=image/png:https://www.textileinstitute.org/wp-content/uploads/2020/03/events-logo-textile-institute.png
END:VEVENT
BEGIN:VEVENT
DTSTART;TZID=Europe/London:20210712T133000
DTEND;TZID=Europe/London:20210712T153000
DTSTAMP:20260422T202130
CREATED:20210705T124652Z
LAST-MODIFIED:20210705T124652Z
UID:10002678-1626096600-1626103800@www.textileinstitute.org
SUMMARY:The North Indian Section webinar: “Electrospun nanofibrous nonwovens for biomedical applications”
DESCRIPTION:Format of the event: webinar \nDate: Monday 12 July 2021 \nTime: 13:00 hrs BST / 17:30 IST \nJoin the North Indian Section of The Textile Institute for a talk by Dr Roli Purwar on ‘Electrospun nanofibrous nonwovens for biomedical applications’. \nClick here to join the event. Meeting ID: 895 8366 0983 | Passcode: 729745
URL:https://www.textileinstitute.org/event/the-north-indian-section-webinar-electrospun-nanofibrous-nonwovens-for-biomedical-applications/
CATEGORIES:Textile Institute
ATTACH;FMTTYPE=image/png:https://www.textileinstitute.org/wp-content/uploads/2020/03/events-logo-textile-institute.png
END:VEVENT
BEGIN:VEVENT
DTSTART;TZID=Europe/London:20210716T143000
DTEND;TZID=Europe/London:20210716T163000
DTSTAMP:20260422T202130
CREATED:20210705T125753Z
LAST-MODIFIED:20210705T125753Z
UID:10002680-1626445800-1626453000@www.textileinstitute.org
SUMMARY:The North Indian Section webinar: "Different strategies for functionalising nonwovens for medical use”
DESCRIPTION:Format of the event: webinar \nDate: Friday 16 July 2021 \nTime: 14:30 hrs BST / 19:00 hrs IST \nJoin the North Indian Section of The Textile Institute for a lecture on nonwoven/ medical textiles by Prof Parik Goswami on the topic “Different strategies for functionalising nonwovens for medical use”. \nClick here to register.
URL:https://www.textileinstitute.org/event/the-north-indian-section-webinar-different-strategies-for-functionalising-nonwovens-for-medical-use/
CATEGORIES:Textile Institute
ATTACH;FMTTYPE=image/png:https://www.textileinstitute.org/wp-content/uploads/2020/03/events-logo-textile-institute.png
END:VEVENT
END:VCALENDAR