BEGIN:VCALENDAR
VERSION:2.0
PRODID:-//The Textile Institute - ECPv6.15.17.1//NONSGML v1.0//EN
CALSCALE:GREGORIAN
METHOD:PUBLISH
X-ORIGINAL-URL:https://www.textileinstitute.org
X-WR-CALDESC:Events for The Textile Institute
REFRESH-INTERVAL;VALUE=DURATION:PT1H
X-Robots-Tag:noindex
X-PUBLISHED-TTL:PT1H
BEGIN:VTIMEZONE
TZID:Europe/London
BEGIN:DAYLIGHT
TZOFFSETFROM:+0000
TZOFFSETTO:+0100
TZNAME:BST
DTSTART:20200329T010000
END:DAYLIGHT
BEGIN:STANDARD
TZOFFSETFROM:+0100
TZOFFSETTO:+0000
TZNAME:GMT
DTSTART:20201025T010000
END:STANDARD
BEGIN:DAYLIGHT
TZOFFSETFROM:+0000
TZOFFSETTO:+0100
TZNAME:BST
DTSTART:20210328T010000
END:DAYLIGHT
BEGIN:STANDARD
TZOFFSETFROM:+0100
TZOFFSETTO:+0000
TZNAME:GMT
DTSTART:20211031T010000
END:STANDARD
BEGIN:DAYLIGHT
TZOFFSETFROM:+0000
TZOFFSETTO:+0100
TZNAME:BST
DTSTART:20220327T010000
END:DAYLIGHT
BEGIN:STANDARD
TZOFFSETFROM:+0100
TZOFFSETTO:+0000
TZNAME:GMT
DTSTART:20221030T010000
END:STANDARD
END:VTIMEZONE
BEGIN:VEVENT
DTSTART;VALUE=DATE:20211124
DTEND;VALUE=DATE:20211125
DTSTAMP:20260422T142447
CREATED:20210707T095140Z
LAST-MODIFIED:20211118T161818Z
UID:10002682-1637712000-1637798399@www.textileinstitute.org
SUMMARY:The Manchester and the North-West Section: 3rd Textiles and Life Student Conference
DESCRIPTION:Format of the conference: Online \nDate: Wednesday 24 November 2021 \nTime: TBC \nThe Manchester and Cheshire Section of The Textile Institute is pleased to provide students with this opportunity to present their research in a formal yet supportive environment. \nWhy Textiles and Life 3?\n \n\nEveryone comes into contact with textiles every day. So\, whatever aspect of textiles you are studying –\n\n \nPlease come and share your research with us whether it be design orientated\, technology driven or business related.\n \n\nWe are all coming to terms with ‘the new normal’ – but what does this mean for you\, your research and the global textile industry?\n\n \nYou will deliver your work to an impartial and non-judgmental audience which will help improve your confidence and prepare you for your future career.\n \n\nThe preparation process will be the same as for any major conference.\n \n\nThe process\n \n\nYou will need to submit an abstract of your proposed paper (written – no more than 300 words; or audio visual: 5 mins max) by 20 September 2021.\n \nAn experienced panel will consider your abstract submission and will inform you within 2 weeks of the submission date if your paper has been accepted for oral presentation\, audio visual\, or poster display.\n\n \nIf your abstract is accepted for presentation you will need to submit the complete written paper by the 31 October 2021. Should you fail to provide the full text / AV / poster your presentation slot will be assigned to someone else. Closer to the conference you will be asked to forward your PowerPoint / AV / poster presentation so it can be uploaded to software being used to host the conference.\n\n \nAll presenters will be required to register as delegates.\n\n \nPlease direct all enquiries and submit your abstract to j.e.wood@mmu.ac.uk \n \nPlease click here to register. \nPlease click here to download the programme.
URL:https://www.textileinstitute.org/event/manchester-and-cheshire-section-3rd-textiles-and-life-student-conference/
CATEGORIES:Textile Institute
ATTACH;FMTTYPE=image/png:https://www.textileinstitute.org/wp-content/uploads/2020/03/events-logo-textile-institute.png
END:VEVENT
BEGIN:VEVENT
DTSTART;TZID=Europe/London:20211124T160000
DTEND;TZID=Europe/London:20211124T170000
DTSTAMP:20260422T142447
CREATED:20210923T095133Z
LAST-MODIFIED:20210923T095211Z
UID:10002248-1637769600-1637773200@www.textileinstitute.org
SUMMARY:The London & SE England Section: FAIRTRADE: People and Profit
DESCRIPTION:Format of the event: Zoom presentation \nDate: Wednesday 24th November 2021 \nTime: 16.00 to 17.00 hrs GMT \nGuest Speaker: Abigail Petit
URL:https://www.textileinstitute.org/event/the-london-se-england-section-fairtrade-people-and-profit/
CATEGORIES:Textile Institute
ATTACH;FMTTYPE=image/png:https://www.textileinstitute.org/wp-content/uploads/2020/03/events-logo-textile-institute.png
END:VEVENT
END:VCALENDAR