BEGIN:VCALENDAR
VERSION:2.0
PRODID:-//The Textile Institute - ECPv6.15.17.1//NONSGML v1.0//EN
CALSCALE:GREGORIAN
METHOD:PUBLISH
X-ORIGINAL-URL:https://www.textileinstitute.org
X-WR-CALDESC:Events for The Textile Institute
REFRESH-INTERVAL;VALUE=DURATION:PT1H
X-Robots-Tag:noindex
X-PUBLISHED-TTL:PT1H
BEGIN:VTIMEZONE
TZID:Europe/London
BEGIN:DAYLIGHT
TZOFFSETFROM:+0000
TZOFFSETTO:+0100
TZNAME:BST
DTSTART:20210328T010000
END:DAYLIGHT
BEGIN:STANDARD
TZOFFSETFROM:+0100
TZOFFSETTO:+0000
TZNAME:GMT
DTSTART:20211031T010000
END:STANDARD
BEGIN:DAYLIGHT
TZOFFSETFROM:+0000
TZOFFSETTO:+0100
TZNAME:BST
DTSTART:20220327T010000
END:DAYLIGHT
BEGIN:STANDARD
TZOFFSETFROM:+0100
TZOFFSETTO:+0000
TZNAME:GMT
DTSTART:20221030T010000
END:STANDARD
BEGIN:DAYLIGHT
TZOFFSETFROM:+0000
TZOFFSETTO:+0100
TZNAME:BST
DTSTART:20230326T010000
END:DAYLIGHT
BEGIN:STANDARD
TZOFFSETFROM:+0100
TZOFFSETTO:+0000
TZNAME:GMT
DTSTART:20231029T010000
END:STANDARD
END:VTIMEZONE
BEGIN:VEVENT
DTSTART;TZID=Europe/London:20220105T120000
DTEND;TZID=Europe/London:20220105T130000
DTSTAMP:20260422T113138
CREATED:20211130T150550Z
LAST-MODIFIED:20220104T142737Z
UID:10002761-1641384000-1641387600@www.textileinstitute.org
SUMMARY:Textile Special Interest Group: Technical Textiles for Protection Against Thermal & Mechanical Hazards
DESCRIPTION:Format of the event: Webinar \nDate: Wednesday 5 January 2022 \nTime: 17:30 – 18:30 IST (12:00 – 13:00 GMT) \nThe Textile Special Interest Group are pleased to announce their webinar Technical Textiles for Protection Against Thermal & Mechanical Hazards\, presented by Dr Nandan Kumar\, High Performance Textiles PVT LTD (HPT). It is a special event organised by the Textile Special Interest Group of The Textile Institute with Indian Technical Textile Association (ITTA) serving as Knowledge Partner. \nPlease click here to register. \nPlease click here for the Textile Special Interest Group’s Facebook page. \nPlease click here for the flyer. \nPlease direct any questions to Dr Vishaka Karnad\, Honorary Secretary of the Textile Special Interest Group via wistisig.in@gmail.com.
URL:https://www.textileinstitute.org/event/textile-special-interest-group-technical-textiles-for-protection-against-thermal-mechanical-hazards/
CATEGORIES:Textile Institute
ATTACH;FMTTYPE=image/png:https://www.textileinstitute.org/wp-content/uploads/2020/03/events-logo-textile-institute.png
END:VEVENT
BEGIN:VEVENT
DTSTART;TZID=Europe/London:20220111T183000
DTEND;TZID=Europe/London:20220111T193000
DTSTAMP:20260422T113138
CREATED:20220105T150313Z
LAST-MODIFIED:20220110T114646Z
UID:10002768-1641925800-1641929400@www.textileinstitute.org
SUMMARY:The Bradford Textile Society Webinar in conjunction with The Textile Institute: The PP Townend Lecture: Dr Waterton Taylor\, 3D Weave Innovation Centre.
DESCRIPTION:We are sorry to announce that this webinar has been cancelled.  \n  \nFormat of the event: Zoom Webinar \nDate: Tuesday 11 January 2022 \nTime: 18:30 – 19:30 hrs GMT \nDr Lindsey Waterton Taylor\, Lecturer in Weaving Technologies and Design\, Academic lead for the 3D Weaving Innovation Centre (3D WIC) in the School of Design at the University of Leeds . \nThe School of Design at the University of Leeds launched the Weaving Innovation Centre in 2018 with £1.7m support by the European Regional Development fund. It focuses on helping SMEs in the Leeds city region enhance their weaving expertise. The Centre operates a new state of the art jacquard MAGEBA multi-shuttle loom (with four shuttles\, instead of the usual one)\, coupled to a computer-controlled Staubli Unival harness\, providing the technological platform to design and produce innovative\, seamless multi-layer fabric structures. \nDr Taylor will discuss the design and production of 2D-3D woven engineered outer surface and internal structural forms . \nWith huge potential to produce more durable and resilient structures\, 3D weaving is increasingly popular in industries from aerospace to medical technology. It provides fantastic opportunities for the fashion and textile industry\, from technical textiles to producing seamless garments. \nPlease click here for more information and registration.
URL:https://www.textileinstitute.org/event/the-bradford-textile-society-webinar-in-conjunction-with-the-textile-institute-the-pp-townend-lecture-dr-waterton-taylor-3d-weave-innovation-centre/
CATEGORIES:Textile Institute
ATTACH;FMTTYPE=image/png:https://www.textileinstitute.org/wp-content/uploads/2020/03/events-logo-bradford-textile.png
END:VEVENT
BEGIN:VEVENT
DTSTART;TZID=Europe/London:20220113T130000
DTEND;TZID=Europe/London:20220113T143000
DTSTAMP:20260422T113138
CREATED:20211208T101424Z
LAST-MODIFIED:20220110T181546Z
UID:10002764-1642078800-1642084200@www.textileinstitute.org
SUMMARY:Tea with The Textile Institute
DESCRIPTION:Format of the event: Zoom Webinar \nDate: Thursday 13 January 2022 \nTime: 13:00 hrs GMT \nThe Textile Institute is delighted to be joined by the Technical Textiles Special Interest Group in hosting the next ‘Tea with the TI’ webinar. \nThe TI’s Technical Textiles Special Interest Group (SIG) is marking it’s relaunch by partnering with the TI for the inaugural event of the 2022 Tea with the TI webinar series! Sponsored by Taylor & Francis.\n\n \nAttendees will hear from influential speakers from across the Technical Textiles industry plus opening words from Technical Textiles SIG Chairman\, Mr Charles Wood CText FTI.\n\n \nThe speakers will be sharing their experience in specialist areas within Technical Textiles. They will cover topics such as artificial turf\, flame retardant finishes and comfort when wearing PPE. There will also be a review of the current status of the Technical Textiles industry in the UK.\n\n \nThe event aims to ignite conversation and lead to the development of an inclusive\, proactive Technical Textiles SIG.\n\n \nThis webinar series is free for all Members and Non-Members are welcome to attend.\n\n \nPlease join The Textile Institute Technical Textiles Special Interest Group on Thursday 13 January at 13:00 for a webinar to celebrate their relaunch!\n\nSpeakers and presentations \n\n \nCharles Wood CText FTI\, Baltex ‘The role of Technical Textiles in the 2020’s’\n\n \nCharles Wood CText FTI graduated from the University of Birmingham in 1989. He joined the family firm\, Baltex\, after 6 months technical warp-knitting training at Karl Mayer in Germany where he graduated as a Praktikant. Baltex is well known for it’s work on medical textiles\, 3D Spacer fabrics with specified compression properties and protective fabrics for FR and Cut protection. During his tenure Baltex has become a key producer of knitted Technical textiles\, winning three Queen’s awards for international trade. The company has also won the innovation prize at the centenary celebrations of the Textile Institute in 2010 for its work on innovative 3D fabrics. Charles is the Founder\, Inventor and Director of Airospring Medical Ltd – based at Biocity\, Nottingham\, who manufacturer medical devices for the prevention of pressure ulcers. Charles was awarded a CText FTI in 2010.\n\n \nRobert Hines CText ATI National Safety Apparel ‘Comfort and Style meet Protection – Innovations in Flame Retardant Textiles’\n\n \nRobert W Hines CText ATI serves as Director of Research and Development and Textile Supply Chain at National Safety Apparel\, a provider of comfortable flame retardant garments. Robert has a Master’s Degree in Textile Technology from the Institute of Textile Technology and a BS Degree from the University of North Carolina at Chapel Hill he has over thirty years of domestic and international experience in textile product development\, quality\, and manufacturing and is credited with numerous US and world patents and publications. Most recently\, Robert’s work has focused on the development of fabrics and garments that are both protective and comfortable while providing protection from arc flash and flash fire hazards.\n\n \nJason Kent\, British Textile Machinery Association ‘The Evolution of Artificial Grass’\n\n \nWith over 35 years’ experience in the carpet tufting machinery industry\, Jason Kent worked in various roles for Cobble and the Vandewiele Group. From product design to managing director\, Jason has been a prominent figure in the carpet manufacturing industry helping clients adopt a mass customisation approach to their production. As CEO of the BTMA\, his current role involves delivering the strategic goals of the Association\, enhancing membership value\, and broadening the networking opportunities for the textile machinery sector.\n\n\nSimon Burnett-Boothroyd CText FTI\, Consultant and Introduction to Textiles Short Course Tutor ‘Flame Retardant Products and Legislations for PPE’\n\n\n \nSimon is a consultant in a broad spectrum of textiles. He has an expansive portfolio in development of products from medical specialisms to high performance outer wear fabrics. Simon is a patent holder in woven fabrics in the PPE market and currently sits on the standard body as an industrial expert in this field. He is a published author and regularly writes for the fire times. He has guest lectured internationally on PPE and Medical textiles. With over a 30 years of experience in the European and Asian markets\, Simon is an industry leader in his field. He is also a committed member of the TI Council and Fellow of the TI.\n\n\nNigel Balmforth\, Taylor & Francis ‘Taylor & Francis and The Textile Institute’s Publications’\n\n\n \nNigel Balmforth joined Taylor & Francis in 2021 as a Portfolio Manager working on a range of journals covering physics\, materials science and chemistry. Nigel has wide experience in the publication and development of scientific books and journals portfolios for companies including Chapman & Hall\, Wolfe Publishing\, Blackwell and Wiley.\n\n \nProf Stephen Russell\, University of Leeds ‘Adversity into Opportunity: Update on Nonwovens’\n\n \nProf Stephen Russell is a Professor of Textile Materials & Technology. Stephens areas of expertise are Textile and nonwoven fabric engineering\, materials and manufacturing\, textile product design for healthcare\, the consumer and industrial sectors\, as well as sustainability in the fashion and textile industry.\n\n \nClick here to register for the event.
URL:https://www.textileinstitute.org/event/tea-with-the-textile-institute/
CATEGORIES:Textile Institute
ATTACH;FMTTYPE=image/png:https://www.textileinstitute.org/wp-content/uploads/2020/03/events-logo-textile-institute.png
END:VEVENT
BEGIN:VEVENT
DTSTART;TZID=Europe/London:20220119T160000
DTEND;TZID=Europe/London:20220119T170000
DTSTAMP:20260422T113138
CREATED:20211221T122131Z
LAST-MODIFIED:20211221T123106Z
UID:10002766-1642608000-1642611600@www.textileinstitute.org
SUMMARY:The London and SE England Section: 'Sustaining a Future from Fashion to Footwear'
DESCRIPTION:Format of the event: Zoom Webinar \nDate: Wednesday 19 January 2022 \nTime: 16:00 – 17:00 hrs GMT \n\n\n\n\n‘Sustaining a Future from Fashion to Footwear’ \nGuest Speaker: Lisa Ly\, Sustainability Manager at Clarks Shoes \nLisa will explore how the footwear industry is advancing towards sustainability – through better products\, forward thinking supply chains and ambitious initiatives. She will look at the biggest challenges for the industry\, how brands are changing the way they operate and how to achieve a more sustainable future through collaborations and innovations. \n\n\n\n\nWith a background in Fashion management\, Lisa has worked for brands such as George\, ASDA\, ASOS and now Clarks\, specialising in producing sustainable strategies for businesses\, sourcing sustainable materials and working with suppliers to achieve environmental goals. Her role allows her to collaborate with suppliers\, NGOs\, brands and government initiatives to support the fashion industry towards a sustainable future. \n\nClick here to register. \nClick here for the flyer.
URL:https://www.textileinstitute.org/event/the-london-and-se-england-section-sustaining-a-future-from-fashion-to-footwear/
CATEGORIES:Textile Institute
ATTACH;FMTTYPE=image/png:https://www.textileinstitute.org/wp-content/uploads/2020/03/events-logo-textile-institute.png
END:VEVENT
END:VCALENDAR