BEGIN:VCALENDAR
VERSION:2.0
PRODID:-//The Textile Institute - ECPv6.15.17.1//NONSGML v1.0//EN
CALSCALE:GREGORIAN
METHOD:PUBLISH
X-ORIGINAL-URL:https://www.textileinstitute.org
X-WR-CALDESC:Events for The Textile Institute
REFRESH-INTERVAL;VALUE=DURATION:PT1H
X-Robots-Tag:noindex
X-PUBLISHED-TTL:PT1H
BEGIN:VTIMEZONE
TZID:Europe/London
BEGIN:DAYLIGHT
TZOFFSETFROM:+0000
TZOFFSETTO:+0100
TZNAME:BST
DTSTART:20210328T010000
END:DAYLIGHT
BEGIN:STANDARD
TZOFFSETFROM:+0100
TZOFFSETTO:+0000
TZNAME:GMT
DTSTART:20211031T010000
END:STANDARD
BEGIN:DAYLIGHT
TZOFFSETFROM:+0000
TZOFFSETTO:+0100
TZNAME:BST
DTSTART:20220327T010000
END:DAYLIGHT
BEGIN:STANDARD
TZOFFSETFROM:+0100
TZOFFSETTO:+0000
TZNAME:GMT
DTSTART:20221030T010000
END:STANDARD
BEGIN:DAYLIGHT
TZOFFSETFROM:+0000
TZOFFSETTO:+0100
TZNAME:BST
DTSTART:20230326T010000
END:DAYLIGHT
BEGIN:STANDARD
TZOFFSETFROM:+0100
TZOFFSETTO:+0000
TZNAME:GMT
DTSTART:20231029T010000
END:STANDARD
END:VTIMEZONE
BEGIN:VEVENT
DTSTART;TZID=Europe/London:20220406T160000
DTEND;TZID=Europe/London:20220406T170000
DTSTAMP:20260422T070152
CREATED:20220215T153248Z
LAST-MODIFIED:20220216T104213Z
UID:10002837-1649260800-1649264400@www.textileinstitute.org
SUMMARY:The London and SE England Section: 'Net Zero\, can Britain lead the global effort in attaining net zero for one of the world's most polluting industries?'
DESCRIPTION:Format of the event: Zoom webinar \nDate: Wednesday 6 April 2022 \nTime: 16:00 – 17:00 hrs BST \n\n\n\n\n\n\n\n\nGuest Speaker: Christopher Nieper OBE\, Chief Executive\, British Fashion Company \n\n\n\n\n\n\n\n\nDerbyshire based David Nieper has been making high class fashion in Britain for 60 years\, last year winning the Queen’s Award for Sustainability. While fashion is one of the world’s most polluting industries\, accounting for 8+% of global carbon emissions every year\, there is no clear plan of action yet from governments to address fashion’s contribution to the spiralling climate crisis. To help address the situation\, the company’s charitable foundation has launched an eco-label to be used nationwide by the UK fashion industry. The ‘Carbon Checker’ is a simple label designed to help consumers choose eco-friendly garments and do their bit to help fight climate change. \n\nPlease click here to register for free.
URL:https://www.textileinstitute.org/event/the-london-and-se-england-section-net-zero-can-britain-lead-the-global-effort-in-attaining-net-zero-for-one-of-the-worlds-most-polluting-industries/
CATEGORIES:Textile Institute
ATTACH;FMTTYPE=image/png:https://www.textileinstitute.org/wp-content/uploads/2020/03/events-logo-textile-institute.png
END:VEVENT
END:VCALENDAR