BEGIN:VCALENDAR
VERSION:2.0
PRODID:-//The Textile Institute - ECPv6.15.17.1//NONSGML v1.0//EN
CALSCALE:GREGORIAN
METHOD:PUBLISH
X-ORIGINAL-URL:https://www.textileinstitute.org
X-WR-CALDESC:Events for The Textile Institute
REFRESH-INTERVAL;VALUE=DURATION:PT1H
X-Robots-Tag:noindex
X-PUBLISHED-TTL:PT1H
BEGIN:VTIMEZONE
TZID:Europe/London
BEGIN:DAYLIGHT
TZOFFSETFROM:+0000
TZOFFSETTO:+0100
TZNAME:BST
DTSTART:20210328T010000
END:DAYLIGHT
BEGIN:STANDARD
TZOFFSETFROM:+0100
TZOFFSETTO:+0000
TZNAME:GMT
DTSTART:20211031T010000
END:STANDARD
BEGIN:DAYLIGHT
TZOFFSETFROM:+0000
TZOFFSETTO:+0100
TZNAME:BST
DTSTART:20220327T010000
END:DAYLIGHT
BEGIN:STANDARD
TZOFFSETFROM:+0100
TZOFFSETTO:+0000
TZNAME:GMT
DTSTART:20221030T010000
END:STANDARD
BEGIN:DAYLIGHT
TZOFFSETFROM:+0000
TZOFFSETTO:+0100
TZNAME:BST
DTSTART:20230326T010000
END:DAYLIGHT
BEGIN:STANDARD
TZOFFSETFROM:+0100
TZOFFSETTO:+0000
TZNAME:GMT
DTSTART:20231029T010000
END:STANDARD
END:VTIMEZONE
BEGIN:VEVENT
DTSTART;VALUE=DATE:20220621
DTEND;VALUE=DATE:20220625
DTSTAMP:20260422T040919
CREATED:20220126T124926Z
LAST-MODIFIED:20220301T120452Z
UID:10002784-1655769600-1656115199@www.textileinstitute.org
SUMMARY:Techtextil 2022
DESCRIPTION:Venue: Frankfurt am Main\, Frankfurt\, Germany \nDate: 21 – 24 June 2022 \nTechtextil is the leading international trade fair for technical textiles and nonwovens. International exhibitors will be presenting the entire spectrum of technical textiles\, functional apparel textiles and textile technologies at Techtextil in Frankfurt am Main from 21 to 24 June 2022. \nInternational exhibitors will be presenting the entire spectrum of technical textiles\, functional apparel textiles and textile technologies at Techtextil in June 2022. Texprocess\, the leading trade fair for the garment manufacturing and textile processing industry\, and this year\, once again\, the Heimtextil Summer Special\, international trade fair for home and contract textiles\, will take place at the same time as Techtextil. \nThe Textile Institute will be exhibiting as part of the BTMA pavilion\, we look forward to welcoming you at Hall 12.0\, Stand C80. \nIf you would like to make an appointment to visit the stand\, the TI team or for further information\, please contact Robyn Ingham\, events coordinator via ringham@textileinst.org.uk who will be happy to assist you.
URL:https://www.textileinstitute.org/event/techtextil-2022/
CATEGORIES:Textile Institute
ATTACH;FMTTYPE=image/jpeg:https://www.textileinstitute.org/wp-content/uploads/2021/03/techtextil.jpg
END:VEVENT
BEGIN:VEVENT
DTSTART;TZID=Europe/London:20220629T170000
DTEND;TZID=Europe/London:20220629T183000
DTSTAMP:20260422T040919
CREATED:20220524T150318Z
LAST-MODIFIED:20220531T110843Z
UID:10003045-1656522000-1656527400@www.textileinstitute.org
SUMMARY:The London & South East England Section of the Textile Institute  Annual General Meeting
DESCRIPTION:Format of the event: Hybrid \nVenue: UKFT\, 3 Queen Square\, London\, WC1N 3AR (nearest tube station Russell Square: Piccadilly Line\, a 10 minute walk) and online via Zoom. \nDate: Wednesday 29 June 2022 \nTime: 17:00 hrs BST \nFollowing the AGM\, their guest speaker this year will be Charles Wood CText FTI Managing Director\, Baltex with his talk on Technical Textiles in the 2020s. \nAs MD of one of the leading suppliers of high-performance textiles\, Charles Wood will talk of the exciting role of Technical Textiles in the 2020s – about the latest novel innovations and developments in functional and performance textiles for such end uses as protective clothing and sportswear\, healthcare and medical textiles\, automotive and aerospace\, as well as conductive textiles and wearables. \nAll TI members are invited. Book your free place with TicketSource here.  \nMembers registered will be sent AGM papers and agenda 14 days before the AGM\, and Zoom joining instructions will be sent 48 hours before the AGM. Attendees at 3 Queen Square\, WC1N 3AR may arrive from 16:30 hrs BST for a prompt 17:00 hrs BST start. \nClick here for the flyer.
URL:https://www.textileinstitute.org/event/the-london-south-east-england-section-of-the-textile-institute-annual-general-meeting/
CATEGORIES:Textile Institute
ATTACH;FMTTYPE=image/png:https://www.textileinstitute.org/wp-content/uploads/2020/03/events-logo-textile-institute.png
END:VEVENT
END:VCALENDAR