BEGIN:VCALENDAR
VERSION:2.0
PRODID:-//The Textile Institute - ECPv6.15.17.1//NONSGML v1.0//EN
CALSCALE:GREGORIAN
METHOD:PUBLISH
X-WR-CALNAME:The Textile Institute
X-ORIGINAL-URL:https://www.textileinstitute.org
X-WR-CALDESC:Events for The Textile Institute
REFRESH-INTERVAL;VALUE=DURATION:PT1H
X-Robots-Tag:noindex
X-PUBLISHED-TTL:PT1H
BEGIN:VTIMEZONE
TZID:Europe/London
BEGIN:DAYLIGHT
TZOFFSETFROM:+0000
TZOFFSETTO:+0100
TZNAME:BST
DTSTART:20210328T010000
END:DAYLIGHT
BEGIN:STANDARD
TZOFFSETFROM:+0100
TZOFFSETTO:+0000
TZNAME:GMT
DTSTART:20211031T010000
END:STANDARD
BEGIN:DAYLIGHT
TZOFFSETFROM:+0000
TZOFFSETTO:+0100
TZNAME:BST
DTSTART:20220327T010000
END:DAYLIGHT
BEGIN:STANDARD
TZOFFSETFROM:+0100
TZOFFSETTO:+0000
TZNAME:GMT
DTSTART:20221030T010000
END:STANDARD
BEGIN:DAYLIGHT
TZOFFSETFROM:+0000
TZOFFSETTO:+0100
TZNAME:BST
DTSTART:20230326T010000
END:DAYLIGHT
BEGIN:STANDARD
TZOFFSETFROM:+0100
TZOFFSETTO:+0000
TZNAME:GMT
DTSTART:20231029T010000
END:STANDARD
END:VTIMEZONE
BEGIN:VEVENT
DTSTART;TZID=Europe/London:20220807T170000
DTEND;TZID=Europe/London:20220807T180000
DTSTAMP:20260422T011040
CREATED:20220726T100356Z
LAST-MODIFIED:20220726T100356Z
UID:10003084-1659891600-1659895200@www.textileinstitute.org
SUMMARY:The North India Section of The Textile Institute Webinar - “Technical Textiles: Quo Vadis"
DESCRIPTION:Format of the event: Webinar \nDate: Sunday 7 August 2022 \nTime: 17:00 IST \nThe North India Section of The Textile Institute Webinar – “Technical Textiles: Quo Vadis” presented by Dr Seshdari Ramkumar. \nThe webinar in interactive mode shall encompass general background on Technical Textiles\, categorisation specific to emerging markets like India\, the missing links and the way forward in Technical Textile sector. \nDr Ramkumar is a tenured full professor of advanced materials at Texas Tech University. He is credited with creating Technical Textiles revolution in India\, which played a vital in India becoming self-reliant in developing PPE products during this COVID-19. His research has resulted in commercial products such as FiberTect decontamination wipe and cotton-based oil absorbent wipes. \nDr Ramkumar also publishes an international newsletter called “TexSnips\,” which is distributed globally informing researchers\, industry\, and academics on new developments in the field of fiber to soft materials. \nPlease click here to register for free. Joining details will be received after registration. \nPlease click here to view the flyer.
URL:https://www.textileinstitute.org/event/the-north-india-section-of-the-textile-institute-webinar-technical-textiles-quo-vadis/
CATEGORIES:Textile Institute
ATTACH;FMTTYPE=image/png:https://www.textileinstitute.org/wp-content/uploads/2020/03/events-logo-textile-institute.png
END:VEVENT
BEGIN:VEVENT
DTSTART;TZID=Europe/London:20220813T153000
DTEND;TZID=Europe/London:20220813T163000
DTSTAMP:20260422T011040
CREATED:20220726T102714Z
LAST-MODIFIED:20220726T102714Z
UID:10003086-1660404600-1660408200@www.textileinstitute.org
SUMMARY:The North India Section of The Textile Institute Webinar – 'Sustainability in the Textile Industry'
DESCRIPTION:Format of the event: Webinar \nDate: Saturday 13 August 2022 \nTime: 15:30 IST \nPlease click here to register for free. Details will be sent following registration. \nPlease click here to view the flyer. \n 
URL:https://www.textileinstitute.org/event/the-north-india-section-of-the-textile-institute-webinar-sustainability-in-the-textile-industry/
CATEGORIES:Textile Institute
ATTACH;FMTTYPE=image/png:https://www.textileinstitute.org/wp-content/uploads/2020/03/events-logo-textile-institute.png
END:VEVENT
END:VCALENDAR