BEGIN:VCALENDAR
VERSION:2.0
PRODID:-//The Textile Institute - ECPv6.15.17.1//NONSGML v1.0//EN
CALSCALE:GREGORIAN
METHOD:PUBLISH
X-ORIGINAL-URL:https://www.textileinstitute.org
X-WR-CALDESC:Events for The Textile Institute
REFRESH-INTERVAL;VALUE=DURATION:PT1H
X-Robots-Tag:noindex
X-PUBLISHED-TTL:PT1H
BEGIN:VTIMEZONE
TZID:Europe/London
BEGIN:DAYLIGHT
TZOFFSETFROM:+0000
TZOFFSETTO:+0100
TZNAME:BST
DTSTART:20220327T010000
END:DAYLIGHT
BEGIN:STANDARD
TZOFFSETFROM:+0100
TZOFFSETTO:+0000
TZNAME:GMT
DTSTART:20221030T010000
END:STANDARD
BEGIN:DAYLIGHT
TZOFFSETFROM:+0000
TZOFFSETTO:+0100
TZNAME:BST
DTSTART:20230326T010000
END:DAYLIGHT
BEGIN:STANDARD
TZOFFSETFROM:+0100
TZOFFSETTO:+0000
TZNAME:GMT
DTSTART:20231029T010000
END:STANDARD
BEGIN:DAYLIGHT
TZOFFSETFROM:+0000
TZOFFSETTO:+0100
TZNAME:BST
DTSTART:20240331T010000
END:DAYLIGHT
BEGIN:STANDARD
TZOFFSETFROM:+0100
TZOFFSETTO:+0000
TZNAME:GMT
DTSTART:20241027T010000
END:STANDARD
END:VTIMEZONE
BEGIN:VEVENT
DTSTART;VALUE=DATE:20230703
DTEND;VALUE=DATE:20230707
DTSTAMP:20260421T094015
CREATED:20230201T160407Z
LAST-MODIFIED:20230322T150745Z
UID:10003243-1688342400-1688687999@www.textileinstitute.org
SUMMARY:TIWC 2023
DESCRIPTION:Venue: University of Huddersfield\, Huddersfield\, UK \nDate: 3-6 July 2023 \nSustainability of the Textile and Fashion Supply Chain – Transitioning to Zero Carbon and Zero Waste \nThe 92nd Textile Institute World Conference (TIWC) 2023 will be hosted by the University of Huddersfield on 3-6 July 2023. Please click here to register. \nYou are cordially invited to participate in The 92nd Textile Institute World Conference (TIWC) 2023\, hosted by Conference Chairman Prof Parik Goswami CText FTI\, the Department of Fashion and Textiles\, and the Technical Textiles Research Centre (TTRC) at the University of Huddersfield. The conference theme\, ‘Sustainability of the Textile and Fashion Supply Chain – Transitioning to Zero Carbon and Zero Waste’\, is focused on identifying the current scenario as well as emerging sustainable practices and solutions throughout the whole supply chain of textile and fashion products\, starting from raw materials to manufacturing processes\, distribution and retailing\, use by consumers and up to the end-of-life phases. \nFurthermore\, the conference will address various strategies to manage the impact of the textile and fashion supply chain on the environment and climate change. The theme directly aligns with the worldwide initiatives being undertaken in moving toward zero carbon emission. Divided into several sub-themes and organised by academic and industrial experts\, the conference will cover the latest developments and inventions towards achieving reduced carbon emissions in the apparel and fashion sectors and high-end and specialised technical textile products. This conference aims to demonstrate how the triple helix model of the academic–industry-government dialogues could benefit the industry and create a meaningful roadmap towards achieving zero carbon ambitions before 2050. \nClick here for the full details including Call for Papers\, Accommodation\, Registration and more.
URL:https://www.textileinstitute.org/event/tiwc-2023/
CATEGORIES:Textile Institute
ATTACH;FMTTYPE=image/png:https://www.textileinstitute.org/wp-content/uploads/2020/03/events-logo-textile-institute.png
END:VEVENT
BEGIN:VEVENT
DTSTART;TZID=Europe/London:20230703T113000
DTEND;TZID=Europe/London:20230703T123000
DTSTAMP:20260421T094015
CREATED:20230601T142140Z
LAST-MODIFIED:20230609T102721Z
UID:10003301-1688383800-1688387400@www.textileinstitute.org
SUMMARY:The Textile Institute 113th Annual General Meeting
DESCRIPTION:Venue: Create Lab\, Huddersfield University UK\, Barbara Hepworth Building\, University of Huddersfield Queensgate Campus Huddersfield\, HD1 3DH\, United Kingdom / Hybrid Event  \nDate: Monday 3 July 2023 \nTime: 11:30 hrs BST \nThe 113th Annual General Meeting will be held on the first day of TIWC 2023 on 3 July 2023 at The University of Huddersfield\, Huddersfield\, UK and digitally via Zoom Webinar. \nThe digital AGM enables the event to be accessible for all\, therefore we hope that this will encourage more members worldwide to participate on the day.\n \n\nPlease click here to view the agenda.\n\n \nPlease click here for registration which is required for in person and online attendance.\n\n \nIf you have any question\, or to register your apologies\, please contact Robyn Ingham\, events coordinator via ringham@textileinst.org.uk
URL:https://www.textileinstitute.org/event/the-textile-institute-113th-annual-general-meeting/
LOCATION:Create Lab\, Barbara Hepworth Building\, University of Huddersfield Queensgate Campus\, Huddersfield\, HD1 3DH\, United Kingdom
CATEGORIES:Textile Institute
ATTACH;FMTTYPE=image/png:https://www.textileinstitute.org/wp-content/uploads/2020/03/events-logo-textile-institute.png
END:VEVENT
BEGIN:VEVENT
DTSTART;VALUE=DATE:20230722
DTEND;VALUE=DATE:20230723
DTSTAMP:20260421T094015
CREATED:20230712T093300Z
LAST-MODIFIED:20230712T093300Z
UID:10003304-1689984000-1690070399@www.textileinstitute.org
SUMMARY:NITSI - Sustainability Trends in Textile Machinery: Impressions from ITMA 2023
DESCRIPTION:Format of the event: Webinar \nDate: Saturday 22 July 2023 \nTime: 17:00-18:30 hrs IST \nWebinar Theme: Sustainability Trends in Textile Machinery: Impressions from ITMA 2023 \nAbout the Speakers: \nMr Shailendra Nigam is a highly experienced textile industry professional with over 25 years of expertise. He has held senior executive positions at renowned textile mills and has demonstrated proficiency in managing various aspects of the textile value chain\, including production\, safety\, quality\, cost control\, and marketing. With a strong educational background in textile engineering and additional skills in international trade\, Mr. Nigam has successfully implemented key technical deliverables and has been instrumental in driving growth and operational excellence in textile mills. \nMr Kamal Misra\, a BTech. in Textile Technology\, brings 43 years of rich experience in the textile field. He has worked in various positions and currently serves as a director at Sterling Sales Pvt. Ltd. Mr. Misra has made significant contributions to the textile industry through his roles as Chief Editor of TAI Delhi and Honorary Secretary of TAI – Delhi. His extensive expertise in marketing and technical support has been pivotal in raising the textile professional’s voice on multiple platforms. Mr. Misra’s dedication and industry knowledge have enabled various achievements and remarkable progress in fulfilling the objectives of TAI Delhi. \nPlease click here to join the webinar.
URL:https://www.textileinstitute.org/event/nitsi-sustainability-trends-in-textile-machinery-impressions-from-itma-2023/
CATEGORIES:Textile Institute
ATTACH;FMTTYPE=image/png:https://www.textileinstitute.org/wp-content/uploads/2020/03/events-logo-textile-institute.png
END:VEVENT
END:VCALENDAR