BEGIN:VCALENDAR
VERSION:2.0
PRODID:-//The Textile Institute - ECPv6.15.17.1//NONSGML v1.0//EN
CALSCALE:GREGORIAN
METHOD:PUBLISH
X-ORIGINAL-URL:https://www.textileinstitute.org
X-WR-CALDESC:Events for The Textile Institute
REFRESH-INTERVAL;VALUE=DURATION:PT1H
X-Robots-Tag:noindex
X-PUBLISHED-TTL:PT1H
BEGIN:VTIMEZONE
TZID:Europe/London
BEGIN:DAYLIGHT
TZOFFSETFROM:+0000
TZOFFSETTO:+0100
TZNAME:BST
DTSTART:20230326T010000
END:DAYLIGHT
BEGIN:STANDARD
TZOFFSETFROM:+0100
TZOFFSETTO:+0000
TZNAME:GMT
DTSTART:20231029T010000
END:STANDARD
BEGIN:DAYLIGHT
TZOFFSETFROM:+0000
TZOFFSETTO:+0100
TZNAME:BST
DTSTART:20240331T010000
END:DAYLIGHT
BEGIN:STANDARD
TZOFFSETFROM:+0100
TZOFFSETTO:+0000
TZNAME:GMT
DTSTART:20241027T010000
END:STANDARD
BEGIN:DAYLIGHT
TZOFFSETFROM:+0000
TZOFFSETTO:+0100
TZNAME:BST
DTSTART:20250330T010000
END:DAYLIGHT
BEGIN:STANDARD
TZOFFSETFROM:+0100
TZOFFSETTO:+0000
TZNAME:GMT
DTSTART:20251026T010000
END:STANDARD
END:VTIMEZONE
BEGIN:VEVENT
DTSTART;TZID=Europe/London:20240115T080000
DTEND;TZID=Europe/London:20240115T170000
DTSTAMP:20260421T002437
CREATED:20240115T105432Z
LAST-MODIFIED:20240115T105547Z
UID:10003349-1705305600-1705338000@www.textileinstitute.org
SUMMARY:NISTI - LEVERAGING FABRIC DIGITIZATION AND 3D MATERIAL CREATION USING AI FOR BUSINESS GROWTH
DESCRIPTION:Format of the event: Webinar \nDate: 20 January 2023 \nTime: 17:00 – 18:00 hrs IST \nWebinar on Leveraging Fabric Digitization and 3D Material Creation Using AI-Powered Technology to Drive Business Growth. \nClick here to register.
URL:https://www.textileinstitute.org/event/nisti-leveraging-fabric-digitization-and-3d-material-creation-using-ai-for-business-growth/
CATEGORIES:Textile Institute
ATTACH;FMTTYPE=image/png:https://www.textileinstitute.org/wp-content/uploads/2020/03/events-logo-textile-institute.png
END:VEVENT
END:VCALENDAR