BEGIN:VCALENDAR
VERSION:2.0
PRODID:-//The Textile Institute - ECPv6.15.17.1//NONSGML v1.0//EN
CALSCALE:GREGORIAN
METHOD:PUBLISH
X-ORIGINAL-URL:https://www.textileinstitute.org
X-WR-CALDESC:Events for The Textile Institute
REFRESH-INTERVAL;VALUE=DURATION:PT1H
X-Robots-Tag:noindex
X-PUBLISHED-TTL:PT1H
BEGIN:VTIMEZONE
TZID:Europe/London
BEGIN:DAYLIGHT
TZOFFSETFROM:+0000
TZOFFSETTO:+0100
TZNAME:BST
DTSTART:20230326T010000
END:DAYLIGHT
BEGIN:STANDARD
TZOFFSETFROM:+0100
TZOFFSETTO:+0000
TZNAME:GMT
DTSTART:20231029T010000
END:STANDARD
BEGIN:DAYLIGHT
TZOFFSETFROM:+0000
TZOFFSETTO:+0100
TZNAME:BST
DTSTART:20240331T010000
END:DAYLIGHT
BEGIN:STANDARD
TZOFFSETFROM:+0100
TZOFFSETTO:+0000
TZNAME:GMT
DTSTART:20241027T010000
END:STANDARD
BEGIN:DAYLIGHT
TZOFFSETFROM:+0000
TZOFFSETTO:+0100
TZNAME:BST
DTSTART:20250330T010000
END:DAYLIGHT
BEGIN:STANDARD
TZOFFSETFROM:+0100
TZOFFSETTO:+0000
TZNAME:GMT
DTSTART:20251026T010000
END:STANDARD
END:VTIMEZONE
BEGIN:VEVENT
DTSTART;TZID=Europe/London:20241121T090000
DTEND;TZID=Europe/London:20241121T170000
DTSTAMP:20260420T093150
CREATED:20240418T153633Z
LAST-MODIFIED:20240604T131228Z
UID:10003461-1732179600-1732208400@www.textileinstitute.org
SUMMARY:The Textile Institute Fabric Knowledge Course
DESCRIPTION:Date: Thursday 21 November 2024 \nVenue: The Midland Hotel\, Manchester City Centre\, UK \nAre you passionate about fabrics and want to know more? Discover some of their secrets with The Textile Institute’s one day Fabric Knowledge course. \nWhat will I learn about? \nAt the end of the course you will… \n\nAppreciate that there is a huge variety of natural and manufactured fibres available for inclusion in fabrics\, together with a knowledge of some important fibre properties.\nRecognise basic yarn structures.\nBe able to distinguish between woven\, knitted\, and nonwoven structures.\nUnderstand the need for manufacturers to fully consider the choice of fibre content\, yarn and fabric construction for specific end-uses.\nHave a basic understanding of the processes available for introducing colour and pattern into fabric to enhance the saleability of textile products.\nHave a basic understanding of some finishing processes available to enhance fabric end-use potential.\n\nOverview of Fabric Knowledge \nThe taught element of this course will include a significant amount of ‘hands-on’ practical work allowing delegates to leave with a good understanding of fabric construction\, characteristics\, and end-use potential. \nWho is this course suitable for? \nThe course is suitable for anyone who works with or needs an understanding of fabrics in their professional life. Although predominantly geared towards apparel and fashion accessory end uses\, it also benefits those involved in other applications e.g. protective workwear or household textiles. Designers\, product developers\, garment technologists\, manufacturers\, and fashion buyers all profit from understanding of the fundamentals of fabrics. \nLength of Course \nYou will be asked to prepare for the course by dedicating approximately 2 hours to pre-course activities. Then\, you will immerse yourself in the absorbing one-day taught course\, offering 6-7 hours of intensive study. Location details will be provided upon registration. \nCost \nMember GBP£400.00\nNon Member GBP£450.00\nStudent GBP£300.00 \nLunch\, refreshments and course materials are included in the course fee. \nHow to Book your place \nSimply complete and return a Fabric Knowledge Booking Form 2024 along with your payment. Your delegate place will be confirmed within 5 working days. \nContact: Robyn Ingham\, Senior Events Coordinator\nT: +44(0)161 237 1188\nE: ringham@textileinst.org.uk \n 
URL:https://www.textileinstitute.org/event/the-textile-institute-fabric-knowledge-course/
CATEGORIES:Textile Institute
ATTACH;FMTTYPE=image/png:https://www.textileinstitute.org/wp-content/uploads/2020/03/events-logo-textile-institute.png
END:VEVENT
END:VCALENDAR