BEGIN:VCALENDAR
VERSION:2.0
PRODID:-//The Textile Institute - ECPv6.15.17.1//NONSGML v1.0//EN
CALSCALE:GREGORIAN
METHOD:PUBLISH
X-WR-CALNAME:The Textile Institute
X-ORIGINAL-URL:https://www.textileinstitute.org
X-WR-CALDESC:Events for The Textile Institute
REFRESH-INTERVAL;VALUE=DURATION:PT1H
X-Robots-Tag:noindex
X-PUBLISHED-TTL:PT1H
BEGIN:VTIMEZONE
TZID:Europe/London
BEGIN:DAYLIGHT
TZOFFSETFROM:+0000
TZOFFSETTO:+0100
TZNAME:BST
DTSTART:20190331T010000
END:DAYLIGHT
BEGIN:STANDARD
TZOFFSETFROM:+0100
TZOFFSETTO:+0000
TZNAME:GMT
DTSTART:20191027T010000
END:STANDARD
BEGIN:DAYLIGHT
TZOFFSETFROM:+0000
TZOFFSETTO:+0100
TZNAME:BST
DTSTART:20200329T010000
END:DAYLIGHT
BEGIN:STANDARD
TZOFFSETFROM:+0100
TZOFFSETTO:+0000
TZNAME:GMT
DTSTART:20201025T010000
END:STANDARD
BEGIN:DAYLIGHT
TZOFFSETFROM:+0000
TZOFFSETTO:+0100
TZNAME:BST
DTSTART:20210328T010000
END:DAYLIGHT
BEGIN:STANDARD
TZOFFSETFROM:+0100
TZOFFSETTO:+0000
TZNAME:GMT
DTSTART:20211031T010000
END:STANDARD
END:VTIMEZONE
BEGIN:VEVENT
DTSTART;TZID=Europe/London:20200425T080000
DTEND;TZID=Europe/London:20200427T170000
DTSTAMP:20260421T141036
CREATED:20200311T140928Z
LAST-MODIFIED:20200511T194011Z
UID:10001871-1587801600-1588006800@www.textileinstitute.org
SUMMARY:ASGA & CSGIA – Textile Printing China Shanghai Expo 3
DESCRIPTION:
URL:https://www.textileinstitute.org/event/asga-csgia-textile-printing-china-shanghai-expo-3-2/
LOCATION:Bradford\, UK\, Bradford\, United Kingdom
ATTACH;FMTTYPE=image/jpeg:https://www.textileinstitute.org/wp-content/uploads/2020/02/square-repeat-1.jpg
END:VEVENT
BEGIN:VEVENT
DTSTART;TZID=Europe/London:20200325T140000
DTEND;TZID=Europe/London:20200325T203000
DTSTAMP:20260421T141036
CREATED:20200318T141505Z
LAST-MODIFIED:20200319T190620Z
UID:10001945-1585144800-1585168200@www.textileinstitute.org
SUMMARY:SDC International Design Competition 2020
DESCRIPTION:
URL:https://www.textileinstitute.org/event/sdc-international-design-competition-2020/
LOCATION:Bradford\, UK\, Bradford\, United Kingdom
ATTACH;FMTTYPE=image/png:https://www.textileinstitute.org/wp-content/uploads/2020/03/events-logo-sdc.png
END:VEVENT
BEGIN:VEVENT
DTSTART;TZID=Europe/London:20200318T080000
DTEND;TZID=Europe/London:20200318T170000
DTSTAMP:20260421T141036
CREATED:20200318T115429Z
LAST-MODIFIED:20200320T092602Z
UID:10001938-1584518400-1584550800@www.textileinstitute.org
SUMMARY:Asian Wedding Showcase
DESCRIPTION:
URL:https://www.textileinstitute.org/event/asian-wedding-showcase/
LOCATION:Bradford\, UK\, Bradford\, United Kingdom
ATTACH;FMTTYPE=image/png:https://www.textileinstitute.org/wp-content/uploads/2020/03/events-logo-asian-wedding-showcase.png
END:VEVENT
END:VCALENDAR